Workbook

Sheet Menu
C7: Planilha Interativa
C8: Interactive Spreadsheet
C10: Última atualização em: | D10: 46022
C11: Last update on
C12: Linguagem: | D12: PT
C13: Language

Sheet Dados Financeiros
E1: =VALUE(IF(LEN(E2)=4,0,9)&MID(E2,3,2)&LEFT(E2,1)) -> 71 | F1: =VALUE(IF(LEN(F2)=4,0,9)&MID(F2,3,2)&LEFT(F2,1)) -> 72 | G1: =VALUE(IF(LEN(G2)=4,0,9)&MID(G2,3,2)&LEFT(G2,1)) -> 73 | H1: =VALUE(IF(LEN(H2)=4,0,9)&MID(H2,3,2)&LEFT(H2,1)) -> 74 | I1: =VALUE(IF(LEN(I2)=4,0,9)&MID(I2,3,2)&LEFT(I2,1)) -> 81 | J1: =VALUE(IF(LEN(J2)=4,0,9)&MID(J2,3,2)&LEFT(J2,1)) -> 82 | K1: =VALUE(IF(LEN(K2)=4,0,9)&MID(K2,3,2)&LEFT(K2,1)) -> 83 | L1: =VALUE(IF(LEN(L2)=4,0,9)&MID(L2,3,2)&LEFT(L2,1)) -> 84 | ... CF1: =VALUE(IF(LEN(CF2)=4,0,9)&MID(CF2,3,2)&LEFT(CF2,1)) -> 254
E2: 1T07 | F2: 2T07 | G2: 3T07 | H2: 4T07 | I2: 1T08 | J2: 2T08 | K2: 3T08 | L2: 4T08 | M2: 1T09 | N2: 2T09 | O2: 3T09 | P2: 4T09 | Q2: 1T10 | R2: 2T10 | S2: 3T10 | T2: 4T10 | U2: 1T11 | V2: 2T11 | W2: 3T11 | X2: 4T11 | Y2: 1T12* | Z2: 1T12 | AA2: 2T12* | AB2: 2T12 | AC2: 3T12* | AD2: 3T12 | AE2: 4T12* | AF2: 4T12 | AG2: 1T13 | AH2: 2T13 | AI2: 3T13 | AJ2: 4T13 | AK2: 1T14 | AL2: 2T14 | AM2: 3T14 | AN2: 4T14 | AO2: 1T15 | AP2: 2T15 | AQ2: 3T15 | AR2: 4T15 | AS2: 1T16 | AT2: 2T16 | AU2: 3T16 | AV2: 4T16 | AW2: 1T17 | AX2: 2T17 | AY2: 3T17 | AZ2: 4T17 | BA2: 1T18 | BB2: 2T18 | BC2: 3T18 | BD2: 4T18 | BE2: 1T19 | BF2: 2T19 | BG2: 3T19 | BH2: 4T19 | BI2: 1T20 | BJ2: 2T20 | BK2: 3T20 | BL2: 4T20 | BM2: 1T21 | BN2: 2T21 | BO2: 3T21 | BP2: 4T21 | BQ2: 1T22 | BR2: 2T22 | BS2: 3T22 | BT2: 4T22 | BU2: 1T23 | BV2: 2T23 | BW2: 3T23 | BX2: 4T23 | BY2: 1T24 | BZ2: 2T24 | CA2: 3T24 | CB2: 4T24 | CC2: 1T25 | CD2: 2T25 | CE2: 3T25 | CF2: 4T25 | CH2: 1S07 | CI2: 9M07 | CJ2: 2007 | CK2: 1S08 | CL2: 9M08 | CM2: 2008 | CN2: 1S09 | CO2: 9M09 | CP2: 2009 | CQ2: 1S10 | CR2: 9M10 | CS2: 2010 | CT2: 1S11 | CU2: 9M11 | CV2: 2011 | CW2: 1S12 | CX2: 9M12 | CY2: 2012 | CZ2: 1S13 | DA2: 9M13 | DB2: 2013 | DC2: 1S14 | DD2: 9M14 | DE2: 2014 | DF2: 1S15 | DG2: 9M15 | DH2: 2015 | DI2: 1S16 | DJ2: 9M16 | DK2: 2016 | DL2: 1S17 | DM2: 9M17 | DN2: 2017 | DO2: 1S18 | DP2: 9M18 | DQ2: 2018 | DR2: 1S19 | DS2: 9M19 | DT2: 2019 | DU2: 1S20 | DV2: 9M20 | DW2: 2020 | DX2: 1S21 | DY2: 9M21 | DZ2: 2021 | EA2: 1S22 | EB2: 9M22 | EC2: 2022 | ED2: 1S23 | EE2: 9M23 | EF2: 2023 | EG2: 1S24 | EH2: 9M24 | EI2: 2024 | EJ2: 1S25 | EK2: 9M25 | EL2: 2025
B3: Trimestre | C3: Quarter | D3: =IF(Menu!$D$12="PT",'Dados Financeiros'!B3,'Dados Financeiros'!C3) -> Trimestre | E3: =IF(Menu!$D$12="PT",'Dados Financeiros'!E2,IF(MID('Dados Financeiros'!E2,2,1)="T",MID('Dados Financeiros'!E2,1,1)&"Q"&MID('Dados Financeiros'!E2,3,2),IF(MID('Dados Financeiros'!E2,2,1)="S",MID('Dados Financeiros'!E2,1,1)&"H"&MID('Dados Financeiros'!E2,3,2),IF(MID('Dados Financeiros'!E2,2,1)="M",MID('Dados Financeiros'!E2,1,1)&"M"&MID('Dados Financeiros'!E2,3,2),'Dados Financeiros'!E2)))) -> 1T07 | F3: =IF(Menu!$D$12="PT",'Dados Financeiros'!F2,IF(MID('Dados Financeiros'!F2,2,1)="T",MID('Dados Financeiros'!F2,1,1)&"Q"&MID('Dados Financeiros'!F2,3,2),IF(MID('Dados Financeiros'!F2,2,1)="S",MID('Dados Financeiros'!F2,1,1)&"H"&MID('Dados Financeiros'!F2,3,2),IF(MID('Dados Financeiros'!F2,2,1)="M",MID('Dados Financeiros'!F2,1,1)&"M"&MID('Dados Financeiros'!F2,3,2),'Dados Financeiros'!F2)))) -> 2T07 | G3: =IF(Menu!$D$12="PT",'Dados Financeiros'!G2,IF(MID('Dados Financeiros'!G2,2,1)="T",MID('Dados Financeiros'!G2,1,1)&"Q"&MID('Dados Financeiros'!G2,3,2),IF(MID('Dados Financeiros'!G2,2,1)="S",MID('Dados Financeiros'!G2,1,1)&"H"&MID('Dados Financeiros'!G2,3,2),IF(MID('Dados Financeiros'!G2,2,1)="M",MID('Dados Financeiros'!G2,1,1)&"M"&MID('Dados Financeiros'!G2,3,2),'Dados Financeiros'!G2)))) -> 3T07 | H3: =IF(Menu!$D$12="PT",'Dados Financeiros'!H2,IF(MID('Dados Financeiros'!H2,2,1)="T",MID('Dados Financeiros'!H2,1,1)&"Q"&MID('Dados Financeiros'!H2,3,2),IF(MID('Dados Financeiros'!H2,2,1)="S",MID('Dados Financeiros'!H2,1,1)&"H"&MID('Dados Financeiros'!H2,3,2),IF(MID('Dados Financeiros'!H2,2,1)="M",MID('Dados Financeiros'!H2,1,1)&"M"&MID('Dados Financeiros'!H2,3,2),'Dados Financeiros'!H2)))) -> 4T07 | I3: =IF(Menu!$D$12="PT",'Dados Financeiros'!I2,IF(MID('Dados Financeiros'!I2,2,1)="T",MID('Dados Financeiros'!I2,1,1)&"Q"&MID('Dados Financeiros'!I2,3,2),IF(MID('Dados Financeiros'!I2,2,1)="S",MID('Dados Financeiros'!I2,1,1)&"H"&MID('Dados Financeiros'!I2,3,2),IF(MID('Dados Financeiros'!I2,2,1)="M",MID('Dados Financeiros'!I2,1,1)&"M"&MID('Dados Financeiros'!I2,3,2),'Dados Financeiros'!I2)))) -> 1T08 | J3: =IF(Menu!$D$12="PT",'Dados Financeiros'!J2,IF(MID('Dados Financeiros'!J2,2,1)="T",MID('Dados Financeiros'!J2,1,1)&"Q"&MID('Dados Financeiros'!J2,3,2),IF(MID('Dados Financeiros'!J2,2,1)="S",MID('Dados Financeiros'!J2,1,1)&"H"&MID('Dados Financeiros'!J2,3,2),IF(MID('Dados Financeiros'!J2,2,1)="M",MID('Dados Financeiros'!J2,1,1)&"M"&MID('Dados Financeiros'!J2,3,2),'Dados Financeiros'!J2)))) -> 2T08 | K3: =IF(Menu!$D$12="PT",'Dados Financeiros'!K2,IF(MID('Dados Financeiros'!K2,2,1)="T",MID('Dados Financeiros'!K2,1,1)&"Q"&MID('Dados Financeiros'!K2,3,2),IF(MID('Dados Financeiros'!K2,2,1)="S",MID('Dados Financeiros'!K2,1,1)&"H"&MID('Dados Financeiros'!K2,3,2),IF(MID('Dados Financeiros'!K2,2,1)="M",MID('Dados Financeiros'!K2,1,1)&"M"&MID('Dados Financeiros'!K2,3,2),'Dados Financeiros'!K2)))) -> 3T08 | L3: =IF(Menu!$D$12="PT",'Dados Financeiros'!L2,IF(MID('Dados Financeiros'!L2,2,1)="T",MID('Dados Financeiros'!L2,1,1)&"Q"&MID('Dados Financeiros'!L2,3,2),IF(MID('Dados Financeiros'!L2,2,1)="S",MID('Dados Financeiros'!L2,1,1)&"H"&MID('Dados Financeiros'!L2,3,2),IF(MID('Dados Financeiros'!L2,2,1)="M",MID('Dados Financeiros'!L2,1,1)&"M"&MID('Dados Financeiros'!L2,3,2),'Dados Financeiros'!L2)))) -> 4T08 | ... CB3: =IF(Menu!$D$12="PT",'Dados Financeiros'!CB2,IF(MID('Dados Financeiros'!CB2,2,1)="T",MID('Dados Financeiros'!CB2,1,1)&"Q"&MID('Dados Financeiros'!CB2,3,2),IF(MID('Dados Financeiros'!CB2,2,1)="S",MID('Dados Financeiros'!CB2,1,1)&"H"&MID('Dados Financeiros'!CB2,3,2),IF(MID('Dados Financeiros'!CB2,2,1)="M",MID('Dados Financeiros'!CB2,1,1)&"M"&MID('Dados Financeiros'!CB2,3,2),'Dados Financeiros'!CB2)))) -> 4T24 | CC3: {=IF(Menu!$D$12="PT",'Dados Financeiros'!CC2,IF(DXT.TEXTO('Dados Financeiros'!CC2,2,1)="T",MID('Dados Financeiros'!CC2,1,1)&"Q"&MID('Dados Financeiros'!CC2,3,2),IF(DXT.TEXTO('Dados Financeiros'!CC2,2,1)="S",MID('Dados Financeiros'!CC2,1,1)&"H"&MID('Dados Financeiros'!CC2,3,2),IF(DXT.TEXTO('Dados Financeiros'!CC2,2,1)="M",MID('Dados Financeiros'!CC2,1,1)&"M"&MID('Dados Financeiros'!CC2,3,2),'Dados Financeiros'!CC2))))} -> 1T25 | CD3: {=IF(Menu!$D$12="PT",'Dados Financeiros'!CD2,IF(DXT.TEXTO('Dados Financeiros'!CD2,2,1)="T",MID('Dados Financeiros'!CD2,1,1)&"Q"&MID('Dados Financeiros'!CD2,3,2),IF(DXT.TEXTO('Dados Financeiros'!CD2,2,1)="S",MID('Dados Financeiros'!CD2,1,1)&"H"&MID('Dados Financeiros'!CD2,3,2),IF(DXT.TEXTO('Dados Financeiros'!CD2,2,1)="M",MID('Dados Financeiros'!CD2,1,1)&"M"&MID('Dados Financeiros'!CD2,3,2),'Dados Financeiros'!CD2))))} -> 2T25 | CE3: {=IF(Menu!$D$12="PT",'Dados Financeiros'!CE2,IF(DXT.TEXTO('Dados Financeiros'!CE2,2,1)="T",MID('Dados Financeiros'!CE2,1,1)&"Q"&MID('Dados Financeiros'!CE2,3,2),IF(DXT.TEXTO('Dados Financeiros'!CE2,2,1)="S",MID('Dados Financeiros'!CE2,1,1)&"H"&MID('Dados Financeiros'!CE2,3,2),IF(DXT.TEXTO('Dados Financeiros'!CE2,2,1)="M",MID('Dados Financeiros'!CE2,1,1)&"M"&MID('Dados Financeiros'!CE2,3,2),'Dados Financeiros'!CE2))))} -> 3T25 | CF3: {=IF(Menu!$D$12="PT",'Dados Financeiros'!CF2,IF(DXT.TEXTO('Dados Financeiros'!CF2,2,1)="T",MID('Dados Financeiros'!CF2,1,1)&"Q"&MID('Dados Financeiros'!CF2,3,2),IF(DXT.TEXTO('Dados Financeiros'!CF2,2,1)="S",MID('Dados Financeiros'!CF2,1,1)&"H"&MID('Dados Financeiros'!CF2,3,2),IF(DXT.TEXTO('Dados Financeiros'!CF2,2,1)="M",MID('Dados Financeiros'!CF2,1,1)&"M"&MID('Dados Financeiros'!CF2,3,2),'Dados Financeiros'!CF2))))} -> 4T25 | CH3: =IF(Menu!$D$12="PT",'Dados Financeiros'!CH2,IF(MID('Dados Financeiros'!CH2,2,1)="T",MID('Dados Financeiros'!CH2,1,1)&"Q"&MID('Dados Financeiros'!CH2,3,2),IF(MID('Dados Financeiros'!CH2,2,1)="S",MID('Dados Financeiros'!CH2,1,1)&"H"&MID('Dados Financeiros'!CH2,3,2),IF(MID('Dados Financeiros'!CH2,2,1)="M",MID('Dados Financeiros'!CH2,1,1)&"M"&MID('Dados Financeiros'!CH2,3,2),'Dados Financeiros'!CH2)))) -> 1S07 | CI3: =IF(Menu!$D$12="PT",'Dados Financeiros'!CI2,IF(MID('Dados Financeiros'!CI2,2,1)="T",MID('Dados Financeiros'!CI2,1,1)&"Q"&MID('Dados Financeiros'!CI2,3,2),IF(MID('Dados Financeiros'!CI2,2,1)="S",MID('Dados Financeiros'!CI2,1,1)&"H"&MID('Dados Financeiros'!CI2,3,2),IF(MID('Dados Financeiros'!CI2,2,1)="M",MID('Dados Financeiros'!CI2,1,1)&"M"&MID('Dados Financeiros'!CI2,3,2),'Dados Financeiros'!CI2)))) -> 9M07 | CJ3: =IF(Menu!$D$12="PT",'Dados Financeiros'!CJ2,IF(MID('Dados Financeiros'!CJ2,2,1)="T",MID('Dados Financeiros'!CJ2,1,1)&"Q"&MID('Dados Financeiros'!CJ2,3,2),IF(MID('Dados Financeiros'!CJ2,2,1)="S",MID('Dados Financeiros'!CJ2,1,1)&"H"&MID('Dados Financeiros'!CJ2,3,2),IF(MID('Dados Financeiros'!CJ2,2,1)="M",MID('Dados Financeiros'!CJ2,1,1)&"M"&MID('Dados Financeiros'!CJ2,3,2),'Dados Financeiros'!CJ2)))) -> 2007 | CK3: =IF(Menu!$D$12="PT",'Dados Financeiros'!CK2,IF(MID('Dados Financeiros'!CK2,2,1)="T",MID('Dados Financeiros'!CK2,1,1)&"Q"&MID('Dados Financeiros'!CK2,3,2),IF(MID('Dados Financeiros'!CK2,2,1)="S",MID('Dados Financeiros'!CK2,1,1)&"H"&MID('Dados Financeiros'!CK2,3,2),IF(MID('Dados Financeiros'!CK2,2,1)="M",MID('Dados Financeiros'!CK2,1,1)&"M"&MID('Dados Financeiros'!CK2,3,2),'Dados Financeiros'!CK2)))) -> 1S08 | CL3: =IF(Menu!$D$12="PT",'Dados Financeiros'!CL2,IF(MID('Dados Financeiros'!CL2,2,1)="T",MID('Dados Financeiros'!CL2,1,1)&"Q"&MID('Dados Financeiros'!CL2,3,2),IF(MID('Dados Financeiros'!CL2,2,1)="S",MID('Dados Financeiros'!CL2,1,1)&"H"&MID('Dados Financeiros'!CL2,3,2),IF(MID('Dados Financeiros'!CL2,2,1)="M",MID('Dados Financeiros'!CL2,1,1)&"M"&MID('Dados Financeiros'!CL2,3,2),'Dados Financeiros'!CL2)))) -> 9M08 | CM3: =IF(Menu!$D$12="PT",'Dados Financeiros'!CM2,IF(MID('Dados Financeiros'!CM2,2,1)="T",MID('Dados Financeiros'!CM2,1,1)&"Q"&MID('Dados Financeiros'!CM2,3,2),IF(MID('Dados Financeiros'!CM2,2,1)="S",MID('Dados Financeiros'!CM2,1,1)&"H"&MID('Dados Financeiros'!CM2,3,2),IF(MID('Dados Financeiros'!CM2,2,1)="M",MID('Dados Financeiros'!CM2,1,1)&"M"&MID('Dados Financeiros'!CM2,3,2),'Dados Financeiros'!CM2)))) -> 2008 | CN3: =IF(Menu!$D$12="PT",'Dados Financeiros'!CN2,IF(MID('Dados Financeiros'!CN2,2,1)="T",MID('Dados Financeiros'!CN2,1,1)&"Q"&MID('Dados Financeiros'!CN2,3,2),IF(MID('Dados Financeiros'!CN2,2,1)="S",MID('Dados Financeiros'!CN2,1,1)&"H"&MID('Dados Financeiros'!CN2,3,2),IF(MID('Dados Financeiros'!CN2,2,1)="M",MID('Dados Financeiros'!CN2,1,1)&"M"&MID('Dados Financeiros'!CN2,3,2),'Dados Financeiros'!CN2)))) -> 1S09 | CO3: =IF(Menu!$D$12="PT",'Dados Financeiros'!CO2,IF(MID('Dados Financeiros'!CO2,2,1)="T",MID('Dados Financeiros'!CO2,1,1)&"Q"&MID('Dados Financeiros'!CO2,3,2),IF(MID('Dados Financeiros'!CO2,2,1)="S",MID('Dados Financeiros'!CO2,1,1)&"H"&MID('Dados Financeiros'!CO2,3,2),IF(MID('Dados Financeiros'!CO2,2,1)="M",MID('Dados Financeiros'!CO2,1,1)&"M"&MID('Dados Financeiros'!CO2,3,2),'Dados Financeiros'!CO2)))) -> 9M09 | ... EL3: =IF(Menu!$D$12="PT",'Dados Financeiros'!EL2,IF(MID('Dados Financeiros'!EL2,2,1)="T",MID('Dados Financeiros'!EL2,1,1)&"Q"&MID('Dados Financeiros'!EL2,3,2),IF(MID('Dados Financeiros'!EL2,2,1)="S",MID('Dados Financeiros'!EL2,1,1)&"H"&MID('Dados Financeiros'!EL2,3,2),IF(MID('Dados Financeiros'!EL2,2,1)="M",MID('Dados Financeiros'!EL2,1,1)&"M"&MID('Dados Financeiros'!EL2,3,2),'Dados Financeiros'!EL2)))) -> 2025
B5: Balanço Patrimonial | C5: Balance Sheet | D5: =IF(Menu!$D$12="PT",'Dados Financeiros'!B5,'Dados Financeiros'!C5) -> Balanço Patrimonial
B7: Ativo | C7: Assets | D7: =IF(Menu!$D$12="PT",'Dados Financeiros'!B7,'Dados Financeiros'!C7) -> Ativo
B9: Circulante | C9: Current assets | D9: =IF(Menu!$D$12="PT",'Dados Financeiros'!B9,'Dados Financeiros'!C9) -> Circulante | E9: =SUM(E10:E18) -> 943774 | F9: =SUM(F10:F18) -> 846422 | G9: =SUM(G10:G18) -> 858375 | H9: =SUM(H10:H18) -> 646579 | I9: =SUM(I10:I18) -> 646901 | J9: =SUM(J10:J18) -> 757328 | K9: =SUM(K10:K18) -> 785964 | L9: =SUM(L10:L18) -> 849603 | ... BN9: =SUM(BN10:BN18) -> 679448 | BO9: 706226 | BP9: =SUM(BP10:BP18) -> 767890 | BQ9: =SUM(BQ10:BQ18) -> 790823 | BR9: =SUM(BR10:BR18) -> 783354 | BS9: =SUM(BS10:BS18) -> 795778 | BT9: =SUM(BT10:BT18) -> 861002 | BU9: =SUM(BU10:BU18) -> 892586 | BV9: =SUM(BV10:BV18) -> 831367 | BW9: =SUM(BW10:BW18) -> 799938 | ... CF9: =SUM(CF10:CF18) -> 493526 | CH9: =SUM(CH10:CH18) -> 846422 | CI9: =SUM(CI10:CI18) -> 858375 | CJ9: =SUM(CJ10:CJ18) -> 646579 | CK9: =SUM(CK10:CK18) -> 757328 | CL9: =SUM(CL10:CL18) -> 785964 | CM9: =SUM(CM10:CM18) -> 849603 | CN9: =SUM(CN10:CN18) -> 970478 | CO9: =SUM(CO10:CO18) -> 1085032 | ... EL9: =SUM(EL10:EL18) -> 395120
B10: Caixa e Equivalentes de Caixa | C10: Cash and cash equivalents | D10: =IF(Menu!$D$12="PT",'Dados Financeiros'!B10,'Dados Financeiros'!C10) -> Caixa e Equivalentes de Caixa | E10: 423716 | F10: 217050 | G10: 147447 | H10: 52905 | I10: 102298 | J10: 121451 | K10: 119571 | L10: 43666 | M10: 79996 | N10: 69908 | O10: 34971 | P10: 356723 | Q10: 327833 | R10: 270959 | S10: 340250 | T10: 278124 | U10: 570288 | V10: =288691+11989 -> 300680 | W10: 464173 | X10: 414467 | Y10: 396013 | Z10: 350044 | AA10: 375638 | AB10: 316811 | AC10: 319117 | AD10: 257010 | AE10: 178042 | AF10: 95264 | AG10: 286345 | AH10: 412433 | AI10: 331538 | AJ10: 335134 | AK10: 310585 | AL10: 407890 | AM10: 246175 | AN10: 251831 | AO10: 365272 | AP10: 313126 | AQ10: 168896 | AR10: 99026 | AS10: 43857 | AT10: 16849 | AU10: 39180 | AV10: 12117 | AW10: 10300 | AX10: 23208 | AY10: 34503 | AZ10: 10254 | BA10: 11173 | BB10: 10609 | BC10: 12584 | BD10: 14536 | BE10: 6065 | BF10: 4269 | BG10: 231912 | BH10: 251919 | BI10: 196418 | BJ10: 221021 | BK10: 161565 | BL10: 101813 | BM10: 121139 | BN10: 90213 | BO10: 113496 | BP10: 103863 | BQ10: 126761 | BR10: 98666 | BS10: 88982 | BT10: 113662 | BU10: 168018 | BV10: 143211 | BW10: 143418 | BX10: 83865 | BY10: 176331 | BZ10: 178968 | CA10: 148797 | CB10: 130821 | CC10: 121619 | CD10: 65101 | CE10: 42380 | CF10: 199508 | CH10: =INDIRECT(ADDRESS(ROW(),MATCH(IF(LEFT(CH$2,2)="1S","2T",IF(LEFT(CH$2,2)="9M","3T","4T"))&RIGHT(CH$2,2),$A$2:$CG$2,0))) -> 217050 | CI10: =INDIRECT(ADDRESS(ROW(),MATCH(IF(LEFT(CI$2,2)="1S","2T",IF(LEFT(CI$2,2)="9M","3T","4T"))&RIGHT(CI$2,2),$A$2:$CG$2,0))) -> 147447 | CJ10: =INDIRECT(ADDRESS(ROW(),MATCH(IF(LEFT(CJ$2,2)="1S","2T",IF(LEFT(CJ$2,2)="9M","3T","4T"))&RIGHT(CJ$2,2),$A$2:$CG$2,0))) -> 52905 | CK10: =INDIRECT(ADDRESS(ROW(),MATCH(IF(LEFT(CK$2,2)="1S","2T",IF(LEFT(CK$2,2)="9M","3T","4T"))&RIGHT(CK$2,2),$A$2:$CG$2,0))) -> 121451 | CL10: =INDIRECT(ADDRESS(ROW(),MATCH(IF(LEFT(CL$2,2)="1S","2T",IF(LEFT(CL$2,2)="9M","3T","4T"))&RIGHT(CL$2,2),$A$2:$CG$2,0))) -> 119571 | CM10: =INDIRECT(ADDRESS(ROW(),MATCH(IF(LEFT(CM$2,2)="1S","2T",IF(LEFT(CM$2,2)="9M","3T","4T"))&RIGHT(CM$2,2),$A$2:$CG$2,0))) -> 43666 | CN10: =INDIRECT(ADDRESS(ROW(),MATCH(IF(LEFT(CN$2,2)="1S","2T",IF(LEFT(CN$2,2)="9M","3T","4T"))&RIGHT(CN$2,2),$A$2:$CG$2,0))) -> 69908 | CO10: =INDIRECT(ADDRESS(ROW(),MATCH(IF(LEFT(CO$2,2)="1S","2T",IF(LEFT(CO$2,2)="9M","3T","4T"))&RIGHT(CO$2,2),$A$2:$CG$2,0))) -> 34971 | ... EL10: =INDIRECT(ADDRESS(ROW(),MATCH(IF(LEFT(EL$2,2)="1S","2T",IF(LEFT(EL$2,2)="9M","3T","4T"))&RIGHT(EL$2,2),$A$2:$CG$2,0))) -> 199508
B11: Títulos e Valores Mobiliários - CP | C11: Financial assets | D11: =IF(Menu!$D$12="PT",'Dados Financeiros'!B11,'Dados Financeiros'!C11) -> Títulos e Valores Mobiliários - CP | E11: 5132 | F11: 4779 | G11: 9041 | H11: 18146 | I11: 9106 | J11: 12096 | K11: 16690 | L11: 27396 | M11: 32157 | N11: 23449 | O11: 33895 | P11: 63194 | Q11: 37106 | R11: 57565 | S11: 54766 | T11: 11453 | U11: 11705 | V11: 31099 | W11: 11573 | X11: 11374 | Y11: 10941 | Z11: 10941 | AA11: 10996 | AB11: 10996 | AC11: 11222 | AD11: 11222 | AE11: 59408 | AF11: 59408 | AG11: 54487 | AH11: 31375 | AI11: 12455 | AJ11: 8147 | AK11: 3973 | AL11: 3496 | AM11: 3214 | AN11: 5351 | AO11: 1337 | AP11: 141 | AQ11: 36505 | AR11: 93709 | AS11: 65183 | AT11: 90076 | AU11: 51592 | AV11: 79430 | AW11: 14649 | AX11: 45803 | AY11: 11672 | AZ11: 22623 | BA11: 12669 | BB11: 57382 | BC11: 38470 | BD11: 15951 | BE11: 37910 | BF11: 29685 | BG11: 110046 | BH11: 73214 | BI11: 10171 | BJ11: 11563 | BK11: 78086 | BL11: 141889 | BM11: 150759 | BN11: 62873 | BO11: 69957 | BP11: 71145 | BQ11: 56566 | BR11: 60417 | BS11: 47086 | BT11: 87346 | BU11: 22250 | BV11: 17949 | BW11: 25120 | BX11: 16871 | BY11: 24285 | BZ11: 40525 | CA11: 47369 | CB11: 31447 | CC11: 22982 | CD11: 8526 | CE11: 5705 | CF11: 16372 | CH11: =INDIRECT(ADDRESS(ROW(),MATCH(IF(LEFT(CH$2,2)="1S","2T",IF(LEFT(CH$2,2)="9M","3T","4T"))&RIGHT(CH$2,2),$A$2:$CG$2,0))) -> 4779 | CI11: =INDIRECT(ADDRESS(ROW(),MATCH(IF(LEFT(CI$2,2)="1S","2T",IF(LEFT(CI$2,2)="9M","3T","4T"))&RIGHT(CI$2,2),$A$2:$CG$2,0))) -> 9041 | CJ11: =INDIRECT(ADDRESS(ROW(),MATCH(IF(LEFT(CJ$2,2)="1S","2T",IF(LEFT(CJ$2,2)="9M","3T","4T"))&RIGHT(CJ$2,2),$A$2:$CG$2,0))) -> 18146 | CK11: =INDIRECT(ADDRESS(ROW(),MATCH(IF(LEFT(CK$2,2)="1S","2T",IF(LEFT(CK$2,2)="9M","3T","4T"))&RIGHT(CK$2,2),$A$2:$CG$2,0))) -> 12096 | CL11: =INDIRECT(ADDRESS(ROW(),MATCH(IF(LEFT(CL$2,2)="1S","2T",IF(LEFT(CL$2,2)="9M","3T","4T"))&RIGHT(CL$2,2),$A$2:$CG$2,0))) -> 16690 | CM11: =INDIRECT(ADDRESS(ROW(),MATCH(IF(LEFT(CM$2,2)="1S","2T",IF(LEFT(CM$2,2)="9M","3T","4T"))&RIGHT(CM$2,2),$A$2:$CG$2,0))) -> 27396 | CN11: =INDIRECT(ADDRESS(ROW(),MATCH(IF(LEFT(CN$2,2)="1S","2T",IF(LEFT(CN$2,2)="9M","3T","4T"))&RIGHT(CN$2,2),$A$2:$CG$2,0))) -> 23449 | CO11: =INDIRECT(ADDRESS(ROW(),MATCH(IF(LEFT(CO$2,2)="1S","2T",IF(LEFT(CO$2,2)="9M","3T","4T"))&RIGHT(CO$2,2),$A$2:$CG$2,0))) -> 33895 | ... EL11: =INDIRECT(ADDRESS(ROW(),MATCH(IF(LEFT(EL$2,2)="1S","2T",IF(LEFT(EL$2,2)="9M","3T","4T"))&RIGHT(EL$2,2),$A$2:$CG$2,0))) -> 16372
B12: Contas a receber de clientes - CP | C12: Trade accounts receivable | D12: =IF(Menu!$D$12="PT",'Dados Financeiros'!B12,'Dados Financeiros'!C12) -> Contas a receber de clientes - CP | E12: 100421 | F12: 147192 | G12: 187312 | H12: 185738 | I12: 196212 | J12: 213126 | K12: 236965 | L12: 278420 | M12: 305971 | N12: 360537 | O12: 474569 | P12: 543999 | Q12: 587964 | R12: 661717 | S12: 821431 | T12: 928150 | U12: 1169156 | V12: 1255859 | W12: 1419249 | X12: 1405309 | Y12: 1396334 | Z12: 1077424 | AA12: 1452215 | AB12: 1132680 | AC12: 1540598 | AD12: 1225681 | AE12: 1465406 | AF12: 1197921 | AG12: 1347809 | AH12: 1467467 | AI12: 1709093 | AJ12: 1864565 | AK12: 1894604 | AL12: 1971807 | AM12: 1894446 | AN12: 1662028 | AO12: 1556598 | AP12: 1800586 | AQ12: 1847787 | AR12: 704285 | AS12: 753073 | AT12: 666367 | AU12: 528873 | AV12: 434132 | AW12: 371048 | AX12: 288715 | AY12: 193387 | AZ12: 174483 | BA12: 156373 | BB12: 118381 | BC12: 74816 | BD12: 83157 | BE12: 61537 | BF12: 52347 | BG12: 60693 | BH12: 80655 | BI12: 50951 | BJ12: 49821 | BK12: 50050 | BL12: 47172 | BM12: 31024 | BN12: 38884 | BO12: 28122 | BP12: 30556 | BQ12: 39623 | BR12: 58910 | BS12: 78531 | BT12: 99765 | BU12: 129269 | BV12: 155810 | BW12: 172452 | BX12: 220170 | BY12: 232052 | BZ12: 219325 | CA12: 220991 | CB12: 199736 | CC12: 130342 | CD12: 94847 | CE12: 81254 | CF12: 48797 | CH12: =INDIRECT(ADDRESS(ROW(),MATCH(IF(LEFT(CH$2,2)="1S","2T",IF(LEFT(CH$2,2)="9M","3T","4T"))&RIGHT(CH$2,2),$A$2:$CG$2,0))) -> 147192 | CI12: =INDIRECT(ADDRESS(ROW(),MATCH(IF(LEFT(CI$2,2)="1S","2T",IF(LEFT(CI$2,2)="9M","3T","4T"))&RIGHT(CI$2,2),$A$2:$CG$2,0))) -> 187312 | CJ12: =INDIRECT(ADDRESS(ROW(),MATCH(IF(LEFT(CJ$2,2)="1S","2T",IF(LEFT(CJ$2,2)="9M","3T","4T"))&RIGHT(CJ$2,2),$A$2:$CG$2,0))) -> 185738 | CK12: =INDIRECT(ADDRESS(ROW(),MATCH(IF(LEFT(CK$2,2)="1S","2T",IF(LEFT(CK$2,2)="9M","3T","4T"))&RIGHT(CK$2,2),$A$2:$CG$2,0))) -> 213126 | CL12: =INDIRECT(ADDRESS(ROW(),MATCH(IF(LEFT(CL$2,2)="1S","2T",IF(LEFT(CL$2,2)="9M","3T","4T"))&RIGHT(CL$2,2),$A$2:$CG$2,0))) -> 236965 | CM12: =INDIRECT(ADDRESS(ROW(),MATCH(IF(LEFT(CM$2,2)="1S","2T",IF(LEFT(CM$2,2)="9M","3T","4T"))&RIGHT(CM$2,2),$A$2:$CG$2,0))) -> 278420 | CN12: =INDIRECT(ADDRESS(ROW(),MATCH(IF(LEFT(CN$2,2)="1S","2T",IF(LEFT(CN$2,2)="9M","3T","4T"))&RIGHT(CN$2,2),$A$2:$CG$2,0))) -> 360537 | CO12: =INDIRECT(ADDRESS(ROW(),MATCH(IF(LEFT(CO$2,2)="1S","2T",IF(LEFT(CO$2,2)="9M","3T","4T"))&RIGHT(CO$2,2),$A$2:$CG$2,0))) -> 474569 | ... EL12: =INDIRECT(ADDRESS(ROW(),MATCH(IF(LEFT(EL$2,2)="1S","2T",IF(LEFT(EL$2,2)="9M","3T","4T"))&RIGHT(EL$2,2),$A$2:$CG$2,0))) -> 48797
D13: Dividendos a receber - CP | CF13: 98406
B14: Imóveis a comercializar - CP | C14: Properties for sale | D14: =IF(Menu!$D$12="PT",'Dados Financeiros'!B14,'Dados Financeiros'!C14) -> Imóveis a comercializar - CP | E14: 381805 | F14: 427160 | G14: 468709 | H14: 315730 | I14: 290768 | J14: 358717 | K14: 359990 | L14: 448501 | M14: 503882 | N14: 408154 | O14: 428617 | P14: 417587 | Q14: 439499 | R14: 500368 | S14: 707929 | T14: 587430 | U14: 752639 | V14: 719301 | W14: 773524 | X14: 773274 | Y14: 764155 | Z14: 613552 | AA14: 809027 | AB14: 674060 | AC14: 847029 | AD14: 726818 | AE14: 918088 | AF14: 777492 | AG14: 852663 | AH14: 842759 | AI14: 963470 | AJ14: 995216 | AK14: 1105830 | AL14: 1171883 | AM14: 1050317 | AN14: 1123302 | AO14: 916017 | AP14: 1072188 | AQ14: 1022839 | AR14: 1102404 | AS14: 1108253 | AT14: 1159470 | AU14: 1234261 | AV14: 1104722 | AW14: 1026987 | AX14: 1000919 | AY14: 949148 | AZ14: 801551 | BA14: 755620 | BB14: 672707 | BC14: 645687 | BD14: 539332 | BE14: 507003 | BF14: 468245 | BG14: 365843 | BH14: 281605 | BI14: 268755 | BJ14: 247964 | BK14: 258259 | BL14: 376296 | BM14: 334023 | BN14: 445967 | BO14: 449104 | BP14: 520421 | BQ14: 532119 | BR14: 528258 | BS14: 523805 | BT14: 504107 | BU14: 516647 | BV14: 457697 | BW14: 416436 | BX14: 388494 | BY14: 362037 | BZ14: 239817 | CA14: 203007 | CB14: 132402 | CC14: 123651 | CD14: 115055 | CE14: 127396 | CF14: 84239 | CH14: =INDIRECT(ADDRESS(ROW(),MATCH(IF(LEFT(CH$2,2)="1S","2T",IF(LEFT(CH$2,2)="9M","3T","4T"))&RIGHT(CH$2,2),$A$2:$CG$2,0))) -> 427160 | CI14: =INDIRECT(ADDRESS(ROW(),MATCH(IF(LEFT(CI$2,2)="1S","2T",IF(LEFT(CI$2,2)="9M","3T","4T"))&RIGHT(CI$2,2),$A$2:$CG$2,0))) -> 468709 | CJ14: =INDIRECT(ADDRESS(ROW(),MATCH(IF(LEFT(CJ$2,2)="1S","2T",IF(LEFT(CJ$2,2)="9M","3T","4T"))&RIGHT(CJ$2,2),$A$2:$CG$2,0))) -> 315730 | CK14: =INDIRECT(ADDRESS(ROW(),MATCH(IF(LEFT(CK$2,2)="1S","2T",IF(LEFT(CK$2,2)="9M","3T","4T"))&RIGHT(CK$2,2),$A$2:$CG$2,0))) -> 358717 | CL14: =INDIRECT(ADDRESS(ROW(),MATCH(IF(LEFT(CL$2,2)="1S","2T",IF(LEFT(CL$2,2)="9M","3T","4T"))&RIGHT(CL$2,2),$A$2:$CG$2,0))) -> 359990 | CM14: =INDIRECT(ADDRESS(ROW(),MATCH(IF(LEFT(CM$2,2)="1S","2T",IF(LEFT(CM$2,2)="9M","3T","4T"))&RIGHT(CM$2,2),$A$2:$CG$2,0))) -> 448501 | CN14: =INDIRECT(ADDRESS(ROW(),MATCH(IF(LEFT(CN$2,2)="1S","2T",IF(LEFT(CN$2,2)="9M","3T","4T"))&RIGHT(CN$2,2),$A$2:$CG$2,0))) -> 408154 | CO14: =INDIRECT(ADDRESS(ROW(),MATCH(IF(LEFT(CO$2,2)="1S","2T",IF(LEFT(CO$2,2)="9M","3T","4T"))&RIGHT(CO$2,2),$A$2:$CG$2,0))) -> 428617 | ... EL14: =INDIRECT(ADDRESS(ROW(),MATCH(IF(LEFT(EL$2,2)="1S","2T",IF(LEFT(EL$2,2)="9M","3T","4T"))&RIGHT(EL$2,2),$A$2:$CG$2,0))) -> 84239
B15: Despesas pagas antecipadamente | C15: Prepaid expenses | D15: =IF(Menu!$D$12="PT",'Dados Financeiros'!B15,'Dados Financeiros'!C15) -> Despesas pagas antecipadamente | E15: 16172 | F15: 20885 | G15: 14958 | H15: 35473 | I15: 3432 | J15: 3151 | K15: 0 | L15: 2779 | M15: 4183 | N15: 5555 | O15: 6778 | P15: 6180 | Q15: 6119 | R15: 6590 | S15: 6644 | T15: 5433 | U15: 5762 | V15: 7293 | W15: 7833 | X15: 8396 | Y15: 9454 | Z15: 7575 | AA15: 8100 | AB15: 6687 | AC15: 8486 | AD15: 7077 | AE15: 8229 | AF15: 6978 | AG15: 6356 | AH15: 10112 | AI15: 9160 | AJ15: 8852 | AK15: 9220 | AL15: 8778 | AM15: 7168 | AN15: 5390 | AO15: 5795 | AP15: 4959 | AQ15: 3112 | AR15: 1998 | AS15: 2937 | AT15: 2303 | AU15: 1399 | AV15: 1143 | AW15: 4869 | AX15: 6050 | AY15: 6100 | AZ15: 5993 | BA15: 5029 | BB15: 4499 | BC15: 3842 | BD15: 3290 | BE15: 2497 | BF15: 3821 | BG15: 1165 | BH15: 464 | BI15: 918 | BJ15: 703 | BK15: 563 | BL15: 512 | BM15: 1644 | BN15: 1366 | BO15: 1513 | BP15: 1224 | BQ15: 2813 | BR15: 2524 | BS15: 2249 | BT15: 2240 | BU15: 4062 | BV15: 3540 | BW15: 3035 | BX15: 2571 | BY15: 3950 | BZ15: 3300 | CA15: 2976 | CB15: 2037 | CC15: 4116 | CD15: 3482 | CE15: 2213 | CF15: 1416 | CH15: =INDIRECT(ADDRESS(ROW(),MATCH(IF(LEFT(CH$2,2)="1S","2T",IF(LEFT(CH$2,2)="9M","3T","4T"))&RIGHT(CH$2,2),$A$2:$CG$2,0))) -> 20885 | CI15: =INDIRECT(ADDRESS(ROW(),MATCH(IF(LEFT(CI$2,2)="1S","2T",IF(LEFT(CI$2,2)="9M","3T","4T"))&RIGHT(CI$2,2),$A$2:$CG$2,0))) -> 14958 | CJ15: =INDIRECT(ADDRESS(ROW(),MATCH(IF(LEFT(CJ$2,2)="1S","2T",IF(LEFT(CJ$2,2)="9M","3T","4T"))&RIGHT(CJ$2,2),$A$2:$CG$2,0))) -> 35473 | CK15: =INDIRECT(ADDRESS(ROW(),MATCH(IF(LEFT(CK$2,2)="1S","2T",IF(LEFT(CK$2,2)="9M","3T","4T"))&RIGHT(CK$2,2),$A$2:$CG$2,0))) -> 3151 | CL15: =INDIRECT(ADDRESS(ROW(),MATCH(IF(LEFT(CL$2,2)="1S","2T",IF(LEFT(CL$2,2)="9M","3T","4T"))&RIGHT(CL$2,2),$A$2:$CG$2,0))) -> 0 | CM15: =INDIRECT(ADDRESS(ROW(),MATCH(IF(LEFT(CM$2,2)="1S","2T",IF(LEFT(CM$2,2)="9M","3T","4T"))&RIGHT(CM$2,2),$A$2:$CG$2,0))) -> 2779 | CN15: =INDIRECT(ADDRESS(ROW(),MATCH(IF(LEFT(CN$2,2)="1S","2T",IF(LEFT(CN$2,2)="9M","3T","4T"))&RIGHT(CN$2,2),$A$2:$CG$2,0))) -> 5555 | CO15: =INDIRECT(ADDRESS(ROW(),MATCH(IF(LEFT(CO$2,2)="1S","2T",IF(LEFT(CO$2,2)="9M","3T","4T"))&RIGHT(CO$2,2),$A$2:$CG$2,0))) -> 6778 | ... EL15: =INDIRECT(ADDRESS(ROW(),MATCH(IF(LEFT(EL$2,2)="1S","2T",IF(LEFT(EL$2,2)="9M","3T","4T"))&RIGHT(EL$2,2),$A$2:$CG$2,0))) -> 1416
B16: Impostos a recuperar | C16: Taxes and contributions receivable | D16: =IF(Menu!$D$12="PT",'Dados Financeiros'!B16,'Dados Financeiros'!C16) -> Impostos a recuperar | E16: 1965 | F16: 4010 | G16: 5082 | H16: 7667 | I16: 7260 | J16: 7192 | K16: 7622 | L16: 8510 | M16: 9163 | N16: 9688 | O16: 9565 | P16: 9226 | Q16: 10088 | R16: 14435 | S16: 13760 | T16: 14151 | U16: 15683 | V16: 13900 | W16: 17042 | X16: 17029 | Y16: 18430 | Z16: 17133 | AA16: 21767 | AB16: 20256 | AC16: 21456 | AD16: 19566 | AE16: 20475 | AF16: 18436 | AG16: 15777 | AH16: 14573 | AI16: 14324 | AJ16: 14388 | AK16: 14702 | AL16: 15825 | AM16: 17020 | AN16: 16662 | AO16: 16561 | AP16: 20548 | AQ16: 30183 | AR16: 26324 | AS16: 27145 | AT16: 28448 | AU16: 27225 | AV16: 24910 | AW16: 28322 | AX16: 30040 | AY16: 30140 | AZ16: 25869 | BA16: 15472 | BB16: 15356 | BC16: 15298 | BD16: 12428 | BE16: 12371 | BF16: 11670 | BG16: 10368 | BH16: 16712 | BI16: 15783 | BJ16: 15300 | BK16: 14797 | BL16: 12626 | BM16: 13506 | BN16: 13866 | BO16: 13665 | BP16: 13811 | BQ16: 12007 | BR16: 13334 | BS16: 18761 | BT16: 18728 | BU16: 14067 | BV16: 12644 | BW16: 12954 | BX16: 12769 | BY16: 14635 | BZ16: 12231 | CA16: 13199 | CB16: 14162 | CC16: 13702 | CD16: 14208 | CE16: 12648 | CF16: 11510 | CH16: =INDIRECT(ADDRESS(ROW(),MATCH(IF(LEFT(CH$2,2)="1S","2T",IF(LEFT(CH$2,2)="9M","3T","4T"))&RIGHT(CH$2,2),$A$2:$CG$2,0))) -> 4010 | CI16: =INDIRECT(ADDRESS(ROW(),MATCH(IF(LEFT(CI$2,2)="1S","2T",IF(LEFT(CI$2,2)="9M","3T","4T"))&RIGHT(CI$2,2),$A$2:$CG$2,0))) -> 5082 | CJ16: =INDIRECT(ADDRESS(ROW(),MATCH(IF(LEFT(CJ$2,2)="1S","2T",IF(LEFT(CJ$2,2)="9M","3T","4T"))&RIGHT(CJ$2,2),$A$2:$CG$2,0))) -> 7667 | CK16: =INDIRECT(ADDRESS(ROW(),MATCH(IF(LEFT(CK$2,2)="1S","2T",IF(LEFT(CK$2,2)="9M","3T","4T"))&RIGHT(CK$2,2),$A$2:$CG$2,0))) -> 7192 | CL16: =INDIRECT(ADDRESS(ROW(),MATCH(IF(LEFT(CL$2,2)="1S","2T",IF(LEFT(CL$2,2)="9M","3T","4T"))&RIGHT(CL$2,2),$A$2:$CG$2,0))) -> 7622 | CM16: =INDIRECT(ADDRESS(ROW(),MATCH(IF(LEFT(CM$2,2)="1S","2T",IF(LEFT(CM$2,2)="9M","3T","4T"))&RIGHT(CM$2,2),$A$2:$CG$2,0))) -> 8510 | CN16: =INDIRECT(ADDRESS(ROW(),MATCH(IF(LEFT(CN$2,2)="1S","2T",IF(LEFT(CN$2,2)="9M","3T","4T"))&RIGHT(CN$2,2),$A$2:$CG$2,0))) -> 9688 | CO16: =INDIRECT(ADDRESS(ROW(),MATCH(IF(LEFT(CO$2,2)="1S","2T",IF(LEFT(CO$2,2)="9M","3T","4T"))&RIGHT(CO$2,2),$A$2:$CG$2,0))) -> 9565 | ... EL16: =INDIRECT(ADDRESS(ROW(),MATCH(IF(LEFT(EL$2,2)="1S","2T",IF(LEFT(EL$2,2)="9M","3T","4T"))&RIGHT(EL$2,2),$A$2:$CG$2,0))) -> 11510
B17: Outras contas a receber - CP | C17: Other receivables | D17: =IF(Menu!$D$12="PT",'Dados Financeiros'!B17,'Dados Financeiros'!C17) -> Outras contas a receber - CP | BW17: 0 | BX17: 0 | BY17: 0 | BZ17: 29771 | CA17: 0 | CB17: 0 | CC17: 0 | CD17: 38189 | CE17: 40101 | CF17: 33278 | CH17: =INDIRECT(ADDRESS(ROW(),MATCH(IF(LEFT(CH$2,2)="1S","2T",IF(LEFT(CH$2,2)="9M","3T","4T"))&RIGHT(CH$2,2),$A$2:$CG$2,0))) -> 0 | CI17: =INDIRECT(ADDRESS(ROW(),MATCH(IF(LEFT(CI$2,2)="1S","2T",IF(LEFT(CI$2,2)="9M","3T","4T"))&RIGHT(CI$2,2),$A$2:$CG$2,0))) -> 0 | CJ17: =INDIRECT(ADDRESS(ROW(),MATCH(IF(LEFT(CJ$2,2)="1S","2T",IF(LEFT(CJ$2,2)="9M","3T","4T"))&RIGHT(CJ$2,2),$A$2:$CG$2,0))) -> 0 | CK17: =INDIRECT(ADDRESS(ROW(),MATCH(IF(LEFT(CK$2,2)="1S","2T",IF(LEFT(CK$2,2)="9M","3T","4T"))&RIGHT(CK$2,2),$A$2:$CG$2,0))) -> 0 | CL17: =INDIRECT(ADDRESS(ROW(),MATCH(IF(LEFT(CL$2,2)="1S","2T",IF(LEFT(CL$2,2)="9M","3T","4T"))&RIGHT(CL$2,2),$A$2:$CG$2,0))) -> 0 | CM17: =INDIRECT(ADDRESS(ROW(),MATCH(IF(LEFT(CM$2,2)="1S","2T",IF(LEFT(CM$2,2)="9M","3T","4T"))&RIGHT(CM$2,2),$A$2:$CG$2,0))) -> 0 | CN17: =INDIRECT(ADDRESS(ROW(),MATCH(IF(LEFT(CN$2,2)="1S","2T",IF(LEFT(CN$2,2)="9M","3T","4T"))&RIGHT(CN$2,2),$A$2:$CG$2,0))) -> 0 | CO17: =INDIRECT(ADDRESS(ROW(),MATCH(IF(LEFT(CO$2,2)="1S","2T",IF(LEFT(CO$2,2)="9M","3T","4T"))&RIGHT(CO$2,2),$A$2:$CG$2,0))) -> 0 | ... EL17: =INDIRECT(ADDRESS(ROW(),MATCH(IF(LEFT(EL$2,2)="1S","2T",IF(LEFT(EL$2,2)="9M","3T","4T"))&RIGHT(EL$2,2),$A$2:$CG$2,0))) -> 33278
B18: Créditos diversos - CP | C18: Related parties CA | D18: =IF(Menu!$D$12="PT",'Dados Financeiros'!B18,'Dados Financeiros'!C18) -> Créditos diversos - CP | E18: 14563 | F18: 25346 | G18: 25826 | H18: 30920 | I18: 37825 | J18: 41595 | K18: 45126 | L18: 40331 | M18: 38665 | N18: 93187 | O18: 96637 | P18: =56393+50966 -> 107359 | Q18: 118257 | R18: 77683 | S18: 71040 | T18: 76272 | U18: 86527 | V18: 107747 | W18: 90177 | X18: 51268 | Y18: 88984 | Z18: 54607 | AA18: 100817 | AB18: 61697 | AC18: 61472 | AD18: 48574 | AE18: 60738 | AF18: 42957 | AG18: 86425 | AH18: 91796 | AI18: 95672 | AJ18: 62671 | AK18: 90007 | AL18: 61240 | AM18: 85333 | AN18: 59248 | AO18: 82634 | AP18: 67162 | AQ18: 69359 | AR18: 79566 | AS18: 52201 | AT18: 50854 | AU18: 63180 | AV18: 44769 | AW18: 65600 | AX18: 55870 | AY18: 56195 | AZ18: 28296 | BA18: 50855 | BB18: 59845 | BC18: 41437 | BD18: 43429 | BE18: 40752 | BF18: 26944 | BG18: 26343 | BH18: 26954 | BI18: 25959 | BJ18: 18665 | BK18: 30010 | BL18: 24122 | BM18: 30168 | BN18: 26279 | BO18: 30369 | BP18: 26870 | BQ18: 20934 | BR18: 21245 | BS18: 36364 | BT18: 35154 | BU18: 38273 | BV18: 40516 | BW18: 26523 | BX18: 26779 | BY18: 36603 | BZ18: 35027 | CA18: 37609 | CB18: 35041 | CC18: 35221 | CD18: 0 | CE18: 0 | CF18: 0 | CH18: =INDIRECT(ADDRESS(ROW(),MATCH(IF(LEFT(CH$2,2)="1S","2T",IF(LEFT(CH$2,2)="9M","3T","4T"))&RIGHT(CH$2,2),$A$2:$CG$2,0))) -> 25346 | CI18: =INDIRECT(ADDRESS(ROW(),MATCH(IF(LEFT(CI$2,2)="1S","2T",IF(LEFT(CI$2,2)="9M","3T","4T"))&RIGHT(CI$2,2),$A$2:$CG$2,0))) -> 25826 | CJ18: =INDIRECT(ADDRESS(ROW(),MATCH(IF(LEFT(CJ$2,2)="1S","2T",IF(LEFT(CJ$2,2)="9M","3T","4T"))&RIGHT(CJ$2,2),$A$2:$CG$2,0))) -> 30920 | CK18: =INDIRECT(ADDRESS(ROW(),MATCH(IF(LEFT(CK$2,2)="1S","2T",IF(LEFT(CK$2,2)="9M","3T","4T"))&RIGHT(CK$2,2),$A$2:$CG$2,0))) -> 41595 | CL18: =INDIRECT(ADDRESS(ROW(),MATCH(IF(LEFT(CL$2,2)="1S","2T",IF(LEFT(CL$2,2)="9M","3T","4T"))&RIGHT(CL$2,2),$A$2:$CG$2,0))) -> 45126 | CM18: =INDIRECT(ADDRESS(ROW(),MATCH(IF(LEFT(CM$2,2)="1S","2T",IF(LEFT(CM$2,2)="9M","3T","4T"))&RIGHT(CM$2,2),$A$2:$CG$2,0))) -> 40331 | CN18: =INDIRECT(ADDRESS(ROW(),MATCH(IF(LEFT(CN$2,2)="1S","2T",IF(LEFT(CN$2,2)="9M","3T","4T"))&RIGHT(CN$2,2),$A$2:$CG$2,0))) -> 93187 | CO18: =INDIRECT(ADDRESS(ROW(),MATCH(IF(LEFT(CO$2,2)="1S","2T",IF(LEFT(CO$2,2)="9M","3T","4T"))&RIGHT(CO$2,2),$A$2:$CG$2,0))) -> 96637 | ... EL18: =INDIRECT(ADDRESS(ROW(),MATCH(IF(LEFT(EL$2,2)="1S","2T",IF(LEFT(EL$2,2)="9M","3T","4T"))&RIGHT(EL$2,2),$A$2:$CG$2,0))) -> 0
B20: Realizável a longo prazo | C20: Noncurrent assets | D20: =IF(Menu!$D$12="PT",'Dados Financeiros'!B20,'Dados Financeiros'!C20) -> Realizável a longo prazo | E20: =SUM(E21:E29) -> 124774 | F20: =SUM(F21:F29) -> 123061 | G20: =SUM(G21:G29) -> 164380 | H20: =SUM(H21:H29) -> 408748 | I20: =SUM(I21:I29) -> 507703 | J20: =SUM(J21:J29) -> 497010 | K20: =SUM(K21:K29) -> 525251 | L20: =SUM(L21:L29) -> 528857 | ... BN20: =SUM(BN21:BN29) -> 286032 | BO20: 238141 | BP20: =SUM(BP21:BP29) -> 172155 | BQ20: =SUM(BQ21:BQ29) -> 152712 | BR20: =SUM(BR21:BR29) -> 179288 | BS20: =SUM(BS21:BS29) -> 187347 | BT20: =SUM(BT21:BT29) -> 219288 | BU20: =SUM(BU21:BU29) -> 188659 | BV20: =SUM(BV21:BV29) -> 252198 | BW20: =SUM(BW21:BW29) -> 262559 | ... CF20: =SUM(CF21:CF29) -> 229147 | CH20: =SUM(CH21:CH29) -> 123061 | CI20: =SUM(CI21:CI29) -> 164380 | CJ20: =SUM(CJ21:CJ29) -> 408748 | CK20: =SUM(CK21:CK29) -> 497010 | CL20: =SUM(CL21:CL29) -> 525251 | CM20: =SUM(CM21:CM29) -> 528857 | CN20: =SUM(CN21:CN29) -> 612759 | CO20: =SUM(CO21:CO29) -> 612927 | ... EL20: =SUM(EL21:EL29) -> 214277
B21: Títulos e valores mobiliários - LP | C21: Financial assets | D21: =IF(Menu!$D$12="PT",'Dados Financeiros'!B21,'Dados Financeiros'!C21) -> Títulos e valores mobiliários - LP | E21: 0 | F21: 0 | G21: 0 | H21: 0 | I21: 0 | J21: 0 | K21: 0 | L21: 0 | M21: 0 | N21: 0 | O21: 0 | P21: 0 | Q21: 0 | R21: 0 | S21: 0 | T21: 0 | U21: 0 | V21: 0 | W21: 0 | X21: 0 | Y21: 0 | Z21: 0 | AA21: 0 | AB21: 0 | AC21: 0 | AD21: 0 | AE21: 0 | AF21: 0 | AG21: 0 | AH21: 0 | AI21: 0 | AJ21: 0 | AK21: 0 | AL21: 0 | AM21: 0 | AN21: 0 | AO21: 0 | AP21: 43579 | AQ21: 70366 | AR21: 53849 | AS21: 78647 | AT21: 79285 | AU21: 81114 | AV21: 82471 | AW21: 49518 | AX21: 50752 | AY21: 51046 | AZ21: 53885 | BA21: 52578 | BB21: 53125 | BC21: 53338 | BD21: 53628 | BE21: 57640 | BF21: 52962 | BG21: 53764 | BH21: 54419 | BI21: 54462 | BJ21: 54857 | BK21: 56084 | BL21: 56339 | BM21: 56601 | BN21: 951 | BO21: 951 | BP21: 951 | BQ21: 2388 | BR21: 2388 | BS21: 2388 | BT21: 4127 | BU21: 4588 | BV21: 4729 | BW21: 4841 | BX21: 4976 | BY21: 5048 | BZ21: 5174 | CA21: 5344 | CB21: 9578 | CC21: 5383 | CD21: 11778 | CE21: 12021 | CF21: 0 | CH21: =INDIRECT(ADDRESS(ROW(),MATCH(IF(LEFT(CH$2,2)="1S","2T",IF(LEFT(CH$2,2)="9M","3T","4T"))&RIGHT(CH$2,2),$A$2:$CG$2,0))) -> 0 | CI21: =INDIRECT(ADDRESS(ROW(),MATCH(IF(LEFT(CI$2,2)="1S","2T",IF(LEFT(CI$2,2)="9M","3T","4T"))&RIGHT(CI$2,2),$A$2:$CG$2,0))) -> 0 | CJ21: =INDIRECT(ADDRESS(ROW(),MATCH(IF(LEFT(CJ$2,2)="1S","2T",IF(LEFT(CJ$2,2)="9M","3T","4T"))&RIGHT(CJ$2,2),$A$2:$CG$2,0))) -> 0 | CK21: =INDIRECT(ADDRESS(ROW(),MATCH(IF(LEFT(CK$2,2)="1S","2T",IF(LEFT(CK$2,2)="9M","3T","4T"))&RIGHT(CK$2,2),$A$2:$CG$2,0))) -> 0 | CL21: =INDIRECT(ADDRESS(ROW(),MATCH(IF(LEFT(CL$2,2)="1S","2T",IF(LEFT(CL$2,2)="9M","3T","4T"))&RIGHT(CL$2,2),$A$2:$CG$2,0))) -> 0 | CM21: =INDIRECT(ADDRESS(ROW(),MATCH(IF(LEFT(CM$2,2)="1S","2T",IF(LEFT(CM$2,2)="9M","3T","4T"))&RIGHT(CM$2,2),$A$2:$CG$2,0))) -> 0 | CN21: =INDIRECT(ADDRESS(ROW(),MATCH(IF(LEFT(CN$2,2)="1S","2T",IF(LEFT(CN$2,2)="9M","3T","4T"))&RIGHT(CN$2,2),$A$2:$CG$2,0))) -> 0 | CO21: =INDIRECT(ADDRESS(ROW(),MATCH(IF(LEFT(CO$2,2)="1S","2T",IF(LEFT(CO$2,2)="9M","3T","4T"))&RIGHT(CO$2,2),$A$2:$CG$2,0))) -> 0 | ... EL21: =INDIRECT(ADDRESS(ROW(),MATCH(IF(LEFT(EL$2,2)="1S","2T",IF(LEFT(EL$2,2)="9M","3T","4T"))&RIGHT(EL$2,2),$A$2:$CG$2,0))) -> 0
B22: Contas a receber de clientes - LP | C22: Trade accounts receivable | D22: =IF(Menu!$D$12="PT",'Dados Financeiros'!B22,'Dados Financeiros'!C22) -> Contas a receber de clientes - LP | E22: 103765 | F22: 100540 | G22: 134016 | H22: 135639 | I22: 164131 | J22: 200489 | K22: 214020 | L22: 222485 | M22: 263282 | N22: 299777 | O22: 275278 | P22: 287106 | Q22: 375025 | R22: 425004 | S22: 404913 | T22: 624375 | U22: 540177 | V22: 655862 | W22: 630037 | X22: 625725 | Y22: 638961 | Z22: 548813 | AA22: 697082 | AB22: 618125 | AC22: 728191 | AD22: 650988 | AE22: 717878 | AF22: 633869 | AG22: 646912 | AH22: 608748 | AI22: 476536 | AJ22: 362988 | AK22: 425323 | AL22: 435084 | AM22: 474525 | AN22: 514425 | AO22: 546462 | AP22: 233055 | AQ22: 138813 | AR22: 54589 | AS22: 38724 | AT22: 26833 | AU22: 24269 | AV22: 22443 | AW22: 29152 | AX22: 28458 | AY22: 27341 | AZ22: 22204 | BA22: 22886 | BB22: 24031 | BC22: 14882 | BD22: 5789 | BE22: 15417 | BF22: 15660 | BG22: 16269 | BH22: 27246 | BI22: 69343 | BJ22: 88919 | BK22: 113847 | BL22: 126464 | BM22: 75436 | BN22: 76868 | BO22: 29729 | BP22: 37975 | BQ22: 43482 | BR22: 39264 | BS22: 42155 | BT22: 43996 | BU22: 46929 | BV22: 35885 | BW22: 42012 | BX22: 35112 | BY22: 30631 | BZ22: 20810 | CA22: 19663 | CB22: 21249 | CC22: 20852 | CD22: 10778 | CE22: 8997 | CF22: 15274 | CH22: =INDIRECT(ADDRESS(ROW(),MATCH(IF(LEFT(CH$2,2)="1S","2T",IF(LEFT(CH$2,2)="9M","3T","4T"))&RIGHT(CH$2,2),$A$2:$CG$2,0))) -> 100540 | CI22: =INDIRECT(ADDRESS(ROW(),MATCH(IF(LEFT(CI$2,2)="1S","2T",IF(LEFT(CI$2,2)="9M","3T","4T"))&RIGHT(CI$2,2),$A$2:$CG$2,0))) -> 134016 | CJ22: =INDIRECT(ADDRESS(ROW(),MATCH(IF(LEFT(CJ$2,2)="1S","2T",IF(LEFT(CJ$2,2)="9M","3T","4T"))&RIGHT(CJ$2,2),$A$2:$CG$2,0))) -> 135639 | CK22: =INDIRECT(ADDRESS(ROW(),MATCH(IF(LEFT(CK$2,2)="1S","2T",IF(LEFT(CK$2,2)="9M","3T","4T"))&RIGHT(CK$2,2),$A$2:$CG$2,0))) -> 200489 | CL22: =INDIRECT(ADDRESS(ROW(),MATCH(IF(LEFT(CL$2,2)="1S","2T",IF(LEFT(CL$2,2)="9M","3T","4T"))&RIGHT(CL$2,2),$A$2:$CG$2,0))) -> 214020 | CM22: =INDIRECT(ADDRESS(ROW(),MATCH(IF(LEFT(CM$2,2)="1S","2T",IF(LEFT(CM$2,2)="9M","3T","4T"))&RIGHT(CM$2,2),$A$2:$CG$2,0))) -> 222485 | CN22: =INDIRECT(ADDRESS(ROW(),MATCH(IF(LEFT(CN$2,2)="1S","2T",IF(LEFT(CN$2,2)="9M","3T","4T"))&RIGHT(CN$2,2),$A$2:$CG$2,0))) -> 299777 | CO22: =INDIRECT(ADDRESS(ROW(),MATCH(IF(LEFT(CO$2,2)="1S","2T",IF(LEFT(CO$2,2)="9M","3T","4T"))&RIGHT(CO$2,2),$A$2:$CG$2,0))) -> 275278 | ... EL22: =INDIRECT(ADDRESS(ROW(),MATCH(IF(LEFT(EL$2,2)="1S","2T",IF(LEFT(EL$2,2)="9M","3T","4T"))&RIGHT(EL$2,2),$A$2:$CG$2,0))) -> 15274
D23: Dividendos a receber - LP | CF23: 14870
B24: Imóveis a comercializar - LP | C24: Properties for sale | D24: =IF(Menu!$D$12="PT",'Dados Financeiros'!B24,'Dados Financeiros'!C24) -> Imóveis a comercializar - LP | E24: 0 | F24: 0 | G24: 0 | H24: 237281 | I24: 307735 | J24: 253268 | K24: 256600 | L24: 236183 | M24: 185242 | N24: 237357 | O24: 240144 | P24: 294562 | Q24: 304086 | R24: 373837 | S24: 415787 | T24: 460976 | U24: 333829 | V24: 312453 | W24: 310395 | X24: 479867 | Y24: 486157 | Z24: 460710 | AA24: 445550 | AB24: 422757 | AC24: 425060 | AD24: 406711 | AE24: 496914 | AF24: 488968 | AG24: 443697 | AH24: 442451 | AI24: 457412 | AJ24: 425155 | AK24: 421181 | AL24: 347303 | AM24: 530144 | AN24: 543149 | AO24: 744655 | AP24: 625129 | AQ24: 684629 | AR24: 497125 | AS24: 470554 | AT24: 464947 | AU24: 448926 | AV24: 332936 | AW24: 344248 | AX24: 209236 | AY24: 237366 | AZ24: 226906 | BA24: 216313 | BB24: 216346 | BC24: 216090 | BD24: 208513 | BE24: 182489 | BF24: 146487 | BG24: 148112 | BH24: 114798 | BI24: 113851 | BJ24: 113403 | BK24: 115292 | BL24: 115132 | BM24: 200381 | BN24: 91160 | BO24: 92096 | BP24: 36299 | BQ24: 12511 | BR24: 41545 | BS24: 44921 | BT24: 86710 | BU24: 46386 | BV24: 114584 | BW24: 96365 | BX24: 88332 | BY24: 88619 | BZ24: 67409 | CA24: 84103 | CB24: 86574 | CC24: 86725 | CD24: 86929 | CE24: 51717 | CF24: 71585 | CH24: =INDIRECT(ADDRESS(ROW(),MATCH(IF(LEFT(CH$2,2)="1S","2T",IF(LEFT(CH$2,2)="9M","3T","4T"))&RIGHT(CH$2,2),$A$2:$CG$2,0))) -> 0 | CI24: =INDIRECT(ADDRESS(ROW(),MATCH(IF(LEFT(CI$2,2)="1S","2T",IF(LEFT(CI$2,2)="9M","3T","4T"))&RIGHT(CI$2,2),$A$2:$CG$2,0))) -> 0 | CJ24: =INDIRECT(ADDRESS(ROW(),MATCH(IF(LEFT(CJ$2,2)="1S","2T",IF(LEFT(CJ$2,2)="9M","3T","4T"))&RIGHT(CJ$2,2),$A$2:$CG$2,0))) -> 237281 | CK24: =INDIRECT(ADDRESS(ROW(),MATCH(IF(LEFT(CK$2,2)="1S","2T",IF(LEFT(CK$2,2)="9M","3T","4T"))&RIGHT(CK$2,2),$A$2:$CG$2,0))) -> 253268 | CL24: =INDIRECT(ADDRESS(ROW(),MATCH(IF(LEFT(CL$2,2)="1S","2T",IF(LEFT(CL$2,2)="9M","3T","4T"))&RIGHT(CL$2,2),$A$2:$CG$2,0))) -> 256600 | CM24: =INDIRECT(ADDRESS(ROW(),MATCH(IF(LEFT(CM$2,2)="1S","2T",IF(LEFT(CM$2,2)="9M","3T","4T"))&RIGHT(CM$2,2),$A$2:$CG$2,0))) -> 236183 | CN24: =INDIRECT(ADDRESS(ROW(),MATCH(IF(LEFT(CN$2,2)="1S","2T",IF(LEFT(CN$2,2)="9M","3T","4T"))&RIGHT(CN$2,2),$A$2:$CG$2,0))) -> 237357 | CO24: =INDIRECT(ADDRESS(ROW(),MATCH(IF(LEFT(CO$2,2)="1S","2T",IF(LEFT(CO$2,2)="9M","3T","4T"))&RIGHT(CO$2,2),$A$2:$CG$2,0))) -> 240144 | ... EL24: =INDIRECT(ADDRESS(ROW(),MATCH(IF(LEFT(EL$2,2)="1S","2T",IF(LEFT(EL$2,2)="9M","3T","4T"))&RIGHT(EL$2,2),$A$2:$CG$2,0))) -> 71585
B25: Partes Relacionadas - AT | C25: Related parties | D25: =IF(Menu!$D$12="PT",'Dados Financeiros'!B25,'Dados Financeiros'!C25) -> Partes Relacionadas - AT | E25: 0 | F25: 0 | G25: 0 | H25: 0 | I25: 0 | J25: 0 | K25: 0 | L25: 0 | M25: 0 | N25: 0 | O25: 0 | P25: 0 | Q25: 0 | R25: 0 | S25: 0 | T25: 0 | U25: 0 | V25: 0 | W25: 0 | X25: 0 | Y25: 0 | Z25: 73305 | AA25: 0 | AB25: 82913 | AC25: 0 | AD25: 66611 | AE25: 0 | AF25: 58390 | AG25: 55195 | AH25: 87547 | AI25: 90860 | AJ25: 65979 | AK25: 56282 | AL25: 72645 | AM25: 73042 | AN25: 73740 | AO25: 91357 | AP25: 22035 | AQ25: 13416 | AR25: 16165 | AS25: 17504 | AT25: 18038 | AU25: 20472 | AV25: 13444 | AW25: 17519 | AX25: 17083 | AY25: 23608 | AZ25: 18486 | BA25: 10809 | BB25: 7481 | BC25: 8074 | BD25: 8465 | BE25: 8494 | BF25: 8138 | BG25: 8157 | BH25: 8967 | BI25: 39494 | BJ25: 40581 | BK25: 65849 | BL25: 10732 | BM25: 19954 | BN25: 11933 | BO25: 17284 | BP25: 6070 | BQ25: 6893 | BR25: 7377 | BS25: 7289 | BT25: 1286 | BU25: 4733 | BV25: 6678 | BW25: 6855 | BX25: 37386 | BY25: 2786 | BZ25: 3032 | CA25: 3591 | CB25: 3780 | CC25: 4563 | CD25: 4903 | CE25: 5373 | CF25: 13492 | CH25: =INDIRECT(ADDRESS(ROW(),MATCH(IF(LEFT(CH$2,2)="1S","2T",IF(LEFT(CH$2,2)="9M","3T","4T"))&RIGHT(CH$2,2),$A$2:$CG$2,0))) -> 0 | CI25: =INDIRECT(ADDRESS(ROW(),MATCH(IF(LEFT(CI$2,2)="1S","2T",IF(LEFT(CI$2,2)="9M","3T","4T"))&RIGHT(CI$2,2),$A$2:$CG$2,0))) -> 0 | CJ25: =INDIRECT(ADDRESS(ROW(),MATCH(IF(LEFT(CJ$2,2)="1S","2T",IF(LEFT(CJ$2,2)="9M","3T","4T"))&RIGHT(CJ$2,2),$A$2:$CG$2,0))) -> 0 | CK25: =INDIRECT(ADDRESS(ROW(),MATCH(IF(LEFT(CK$2,2)="1S","2T",IF(LEFT(CK$2,2)="9M","3T","4T"))&RIGHT(CK$2,2),$A$2:$CG$2,0))) -> 0 | CL25: =INDIRECT(ADDRESS(ROW(),MATCH(IF(LEFT(CL$2,2)="1S","2T",IF(LEFT(CL$2,2)="9M","3T","4T"))&RIGHT(CL$2,2),$A$2:$CG$2,0))) -> 0 | CM25: =INDIRECT(ADDRESS(ROW(),MATCH(IF(LEFT(CM$2,2)="1S","2T",IF(LEFT(CM$2,2)="9M","3T","4T"))&RIGHT(CM$2,2),$A$2:$CG$2,0))) -> 0 | CN25: =INDIRECT(ADDRESS(ROW(),MATCH(IF(LEFT(CN$2,2)="1S","2T",IF(LEFT(CN$2,2)="9M","3T","4T"))&RIGHT(CN$2,2),$A$2:$CG$2,0))) -> 0 | CO25: =INDIRECT(ADDRESS(ROW(),MATCH(IF(LEFT(CO$2,2)="1S","2T",IF(LEFT(CO$2,2)="9M","3T","4T"))&RIGHT(CO$2,2),$A$2:$CG$2,0))) -> 0 | ... EL25: =INDIRECT(ADDRESS(ROW(),MATCH(IF(LEFT(EL$2,2)="1S","2T",IF(LEFT(EL$2,2)="9M","3T","4T"))&RIGHT(EL$2,2),$A$2:$CG$2,0))) -> 13492
B26: Parceiro em Negócios - AT | C26: Business partners | D26: =IF(Menu!$D$12="PT",'Dados Financeiros'!B26,'Dados Financeiros'!C26) -> Parceiro em Negócios - AT | E26: 2929 | F26: 2995 | G26: 5724 | H26: 10966 | I26: 16931 | J26: 22979 | K26: 33921 | L26: 44820 | M26: 47712 | N26: 48282 | O26: 69512 | P26: 77169 | Q26: 84988 | R26: 61890 | S26: 69982 | T26: 69169 | U26: 80943 | V26: 79966 | W26: 95656 | X26: 61821 | Y26: 91359 | Z26: 55143 | AA26: 80801 | AB26: 41001 | AC26: 86240 | AD26: 51749 | AE26: 97605 | AF26: 76285 | AG26: 56810 | AH26: 56993 | AI26: 72908 | AJ26: 60654 | AK26: 85105 | AL26: 86333 | AM26: 84333 | AN26: 66194 | AO26: 65753 | AP26: 79313 | AQ26: 71068 | AR26: 49288 | AS26: 61808 | AT26: 84829 | AU26: 76784 | AV26: 82690 | AW26: 94690 | AX26: 106885 | AY26: 65569 | AZ26: 67519 | BA26: 69316 | BB26: 71042 | BC26: 91463 | BD26: 104557 | BE26: 115642 | BF26: 91911 | BG26: 93023 | BH26: 95888 | BI26: 96351 | BJ26: 96727 | BK26: 93479 | BL26: 86498 | BM26: 81158 | BN26: 74601 | BO26: 68684 | BP26: 63076 | BQ26: 62801 | BR26: 67013 | BS26: 66582 | BT26: 6422 | BU26: 7970 | BV26: 55013 | BW26: 50091 | BX26: 55226 | BY26: 54457 | BZ26: 34864 | CA26: 34959 | CB26: 34012 | CC26: 33258 | CD26: 34854 | CE26: 32776 | CF26: 13723 | CH26: =INDIRECT(ADDRESS(ROW(),MATCH(IF(LEFT(CH$2,2)="1S","2T",IF(LEFT(CH$2,2)="9M","3T","4T"))&RIGHT(CH$2,2),$A$2:$CG$2,0))) -> 2995 | CI26: =INDIRECT(ADDRESS(ROW(),MATCH(IF(LEFT(CI$2,2)="1S","2T",IF(LEFT(CI$2,2)="9M","3T","4T"))&RIGHT(CI$2,2),$A$2:$CG$2,0))) -> 5724 | CJ26: =INDIRECT(ADDRESS(ROW(),MATCH(IF(LEFT(CJ$2,2)="1S","2T",IF(LEFT(CJ$2,2)="9M","3T","4T"))&RIGHT(CJ$2,2),$A$2:$CG$2,0))) -> 10966 | CK26: =INDIRECT(ADDRESS(ROW(),MATCH(IF(LEFT(CK$2,2)="1S","2T",IF(LEFT(CK$2,2)="9M","3T","4T"))&RIGHT(CK$2,2),$A$2:$CG$2,0))) -> 22979 | CL26: =INDIRECT(ADDRESS(ROW(),MATCH(IF(LEFT(CL$2,2)="1S","2T",IF(LEFT(CL$2,2)="9M","3T","4T"))&RIGHT(CL$2,2),$A$2:$CG$2,0))) -> 33921 | CM26: =INDIRECT(ADDRESS(ROW(),MATCH(IF(LEFT(CM$2,2)="1S","2T",IF(LEFT(CM$2,2)="9M","3T","4T"))&RIGHT(CM$2,2),$A$2:$CG$2,0))) -> 44820 | CN26: =INDIRECT(ADDRESS(ROW(),MATCH(IF(LEFT(CN$2,2)="1S","2T",IF(LEFT(CN$2,2)="9M","3T","4T"))&RIGHT(CN$2,2),$A$2:$CG$2,0))) -> 48282 | CO26: =INDIRECT(ADDRESS(ROW(),MATCH(IF(LEFT(CO$2,2)="1S","2T",IF(LEFT(CO$2,2)="9M","3T","4T"))&RIGHT(CO$2,2),$A$2:$CG$2,0))) -> 69512 | ... EL26: =INDIRECT(ADDRESS(ROW(),MATCH(IF(LEFT(EL$2,2)="1S","2T",IF(LEFT(EL$2,2)="9M","3T","4T"))&RIGHT(EL$2,2),$A$2:$CG$2,0))) -> 13723
B27: Participações em consórcios | C27: Interest in consortia | D27: =IF(Menu!$D$12="PT",'Dados Financeiros'!B27,'Dados Financeiros'!C27) -> Participações em consórcios | E27: 12166 | F27: 12572 | G27: 12775 | H27: 12515 | I27: 10976 | J27: 10956 | K27: 11691 | L27: 14263 | M27: 14716 | N27: 15909 | O27: 16902 | P27: 21832 | Q27: 20816 | R27: 16119 | S27: 16894 | T27: 11527 | U27: 11159 | V27: 11045 | W27: 12759 | X27: 13047 | Y27: 10607 | Z27: 11347 | AA27: 10627 | AB27: 11170 | AC27: 10074 | AD27: 11435 | AE27: 17841 | AF27: 16885 | AG27: 20789 | AH27: 18199 | AI27: 18501 | AJ27: 19247 | AK27: 19482 | AL27: 20214 | AM27: 20504 | AN27: 22129 | AO27: 19053 | AP27: 16983 | AQ27: 19276 | AR27: 18363 | AS27: 19011 | AT27: 19236 | AU27: 16569 | AV27: 16934 | AW27: 17380 | AX27: 17489 | AY27: 19724 | AZ27: 45 | BA27: 41 | BB27: 72 | BC27: 72 | BD27: 72 | BE27: 31 | BF27: 32 | BG27: 32 | BH27: 0 | BI27: 0 | BJ27: 0 | BK27: 0 | BL27: 0 | BM27: 0 | BN27: 0 | BO27: 0 | BP27: 0 | BQ27: 0 | BR27: 0 | BS27: 0 | BT27: 54994 | BU27: 56085 | BV27: 0 | BW27: 0 | BX27: 0 | BY27: 0 | BZ27: 0 | CA27: 0 | CB27: 0 | CC27: 0 | CD27: 0 | CE27: 0 | CF27: 0 | CH27: =INDIRECT(ADDRESS(ROW(),MATCH(IF(LEFT(CH$2,2)="1S","2T",IF(LEFT(CH$2,2)="9M","3T","4T"))&RIGHT(CH$2,2),$A$2:$CG$2,0))) -> 12572 | CI27: =INDIRECT(ADDRESS(ROW(),MATCH(IF(LEFT(CI$2,2)="1S","2T",IF(LEFT(CI$2,2)="9M","3T","4T"))&RIGHT(CI$2,2),$A$2:$CG$2,0))) -> 12775 | CJ27: =INDIRECT(ADDRESS(ROW(),MATCH(IF(LEFT(CJ$2,2)="1S","2T",IF(LEFT(CJ$2,2)="9M","3T","4T"))&RIGHT(CJ$2,2),$A$2:$CG$2,0))) -> 12515 | CK27: =INDIRECT(ADDRESS(ROW(),MATCH(IF(LEFT(CK$2,2)="1S","2T",IF(LEFT(CK$2,2)="9M","3T","4T"))&RIGHT(CK$2,2),$A$2:$CG$2,0))) -> 10956 | CL27: =INDIRECT(ADDRESS(ROW(),MATCH(IF(LEFT(CL$2,2)="1S","2T",IF(LEFT(CL$2,2)="9M","3T","4T"))&RIGHT(CL$2,2),$A$2:$CG$2,0))) -> 11691 | CM27: =INDIRECT(ADDRESS(ROW(),MATCH(IF(LEFT(CM$2,2)="1S","2T",IF(LEFT(CM$2,2)="9M","3T","4T"))&RIGHT(CM$2,2),$A$2:$CG$2,0))) -> 14263 | CN27: =INDIRECT(ADDRESS(ROW(),MATCH(IF(LEFT(CN$2,2)="1S","2T",IF(LEFT(CN$2,2)="9M","3T","4T"))&RIGHT(CN$2,2),$A$2:$CG$2,0))) -> 15909 | CO27: =INDIRECT(ADDRESS(ROW(),MATCH(IF(LEFT(CO$2,2)="1S","2T",IF(LEFT(CO$2,2)="9M","3T","4T"))&RIGHT(CO$2,2),$A$2:$CG$2,0))) -> 16902 | ... EL27: =INDIRECT(ADDRESS(ROW(),MATCH(IF(LEFT(EL$2,2)="1S","2T",IF(LEFT(EL$2,2)="9M","3T","4T"))&RIGHT(EL$2,2),$A$2:$CG$2,0))) -> 0
B28: Impostos a recuperar - LP | C28: Taxes and contributions receivable | D28: =IF(Menu!$D$12="PT",'Dados Financeiros'!B28,'Dados Financeiros'!C28) -> Impostos a recuperar - LP | E28: 0 | F28: 0 | G28: 0 | H28: 0 | I28: 0 | J28: 0 | K28: 0 | L28: 0 | M28: 0 | N28: 0 | O28: 0 | P28: 0 | Q28: 0 | R28: 0 | S28: 0 | T28: 0 | U28: 0 | V28: 0 | W28: 0 | X28: 0 | Y28: 0 | Z28: 0 | AA28: 0 | AB28: 0 | AC28: 0 | AD28: 0 | AE28: 0 | AF28: 0 | AG28: 0 | AH28: 0 | AI28: 0 | AJ28: 0 | AK28: 0 | AL28: 0 | AM28: 0 | AN28: 0 | AO28: 0 | AP28: 0 | AQ28: 0 | AR28: 0 | AS28: 0 | AT28: 0 | AU28: 0 | AV28: 0 | AW28: 0 | AX28: 0 | AY28: 0 | AZ28: 0 | BA28: 0 | BB28: 0 | BC28: 0 | BD28: 0 | BE28: 0 | BF28: 0 | BG28: 0 | BH28: 0 | BI28: 0 | BJ28: 0 | BK28: 0 | BL28: 0 | BM28: 10217 | BN28: 10892 | BO28: 10062 | BP28: 9895 | BQ28: 8828 | BR28: 6193 | BS28: 1788 | BT28: 0 | BU28: 0 | BV28: 7292 | BW28: 7292 | BX28: 7292 | BY28: 7853 | BZ28: 7853 | CA28: 7853 | CB28: 3284 | CC28: 4409 | CD28: 5203 | CE28: 4990 | CF28: 4527 | CH28: =INDIRECT(ADDRESS(ROW(),MATCH(IF(LEFT(CH$2,2)="1S","2T",IF(LEFT(CH$2,2)="9M","3T","4T"))&RIGHT(CH$2,2),$A$2:$CG$2,0))) -> 0 | CI28: =INDIRECT(ADDRESS(ROW(),MATCH(IF(LEFT(CI$2,2)="1S","2T",IF(LEFT(CI$2,2)="9M","3T","4T"))&RIGHT(CI$2,2),$A$2:$CG$2,0))) -> 0 | CJ28: =INDIRECT(ADDRESS(ROW(),MATCH(IF(LEFT(CJ$2,2)="1S","2T",IF(LEFT(CJ$2,2)="9M","3T","4T"))&RIGHT(CJ$2,2),$A$2:$CG$2,0))) -> 0 | CK28: =INDIRECT(ADDRESS(ROW(),MATCH(IF(LEFT(CK$2,2)="1S","2T",IF(LEFT(CK$2,2)="9M","3T","4T"))&RIGHT(CK$2,2),$A$2:$CG$2,0))) -> 0 | CL28: =INDIRECT(ADDRESS(ROW(),MATCH(IF(LEFT(CL$2,2)="1S","2T",IF(LEFT(CL$2,2)="9M","3T","4T"))&RIGHT(CL$2,2),$A$2:$CG$2,0))) -> 0 | CM28: =INDIRECT(ADDRESS(ROW(),MATCH(IF(LEFT(CM$2,2)="1S","2T",IF(LEFT(CM$2,2)="9M","3T","4T"))&RIGHT(CM$2,2),$A$2:$CG$2,0))) -> 0 | CN28: =INDIRECT(ADDRESS(ROW(),MATCH(IF(LEFT(CN$2,2)="1S","2T",IF(LEFT(CN$2,2)="9M","3T","4T"))&RIGHT(CN$2,2),$A$2:$CG$2,0))) -> 0 | CO28: =INDIRECT(ADDRESS(ROW(),MATCH(IF(LEFT(CO$2,2)="1S","2T",IF(LEFT(CO$2,2)="9M","3T","4T"))&RIGHT(CO$2,2),$A$2:$CG$2,0))) -> 0 | ... EL28: =INDIRECT(ADDRESS(ROW(),MATCH(IF(LEFT(EL$2,2)="1S","2T",IF(LEFT(EL$2,2)="9M","3T","4T"))&RIGHT(EL$2,2),$A$2:$CG$2,0))) -> 4527
B29: Outras contas a receber - LP | C29: Other receivables | D29: =IF(Menu!$D$12="PT",'Dados Financeiros'!B29,'Dados Financeiros'!C29) -> Outras contas a receber - LP | E29: 5914 | F29: 6954 | G29: 11865 | H29: 12347 | I29: 7930 | J29: 9318 | K29: 9019 | L29: 11106 | M29: 10093 | N29: 11434 | O29: 11091 | P29: 6626 | Q29: 6700 | R29: 8518 | S29: 8960 | T29: 10316 | U29: 10156 | V29: 10728 | W29: 11479 | X29: 11874 | Y29: 11834 | Z29: 11723 | AA29: 11258 | AB29: 11186 | AC29: 13335 | AD29: 12565 | AE29: 10962 | AF29: 10877 | AG29: 10902 | AH29: 11568 | AI29: 11745 | AJ29: 18304 | AK29: 19246 | AL29: 19348 | AM29: 19888 | AN29: 19889 | AO29: 22011 | AP29: 22966 | AQ29: 26638 | AR29: 17435 | AS29: 17208 | AT29: 21909 | AU29: 22567 | AV29: 21780 | AW29: 22726 | AX29: 23245 | AY29: 23737 | AZ29: 23101 | BA29: 32161 | BB29: 26790 | BC29: 27903 | BD29: 35283 | BE29: 32899 | BF29: 33354 | BG29: 33053 | BH29: 30491 | BI29: 30535 | BJ29: 31047 | BK29: 32018 | BL29: 32240 | BM29: 18059 | BN29: 19627 | BO29: 19335 | BP29: 17889 | BQ29: =24637-BQ28 -> 15809 | BR29: 15508 | BS29: 22224 | BT29: 21753 | BU29: 21968 | BV29: 28017 | BW29: 55103 | BX29: 52556 | BY29: 59492 | BZ29: 90947 | CA29: 83271 | CB29: 82931 | CC29: 89149 | CD29: 89282 | CE29: 93975 | CF29: 95676 | CH29: =INDIRECT(ADDRESS(ROW(),MATCH(IF(LEFT(CH$2,2)="1S","2T",IF(LEFT(CH$2,2)="9M","3T","4T"))&RIGHT(CH$2,2),$A$2:$CG$2,0))) -> 6954 | CI29: =INDIRECT(ADDRESS(ROW(),MATCH(IF(LEFT(CI$2,2)="1S","2T",IF(LEFT(CI$2,2)="9M","3T","4T"))&RIGHT(CI$2,2),$A$2:$CG$2,0))) -> 11865 | CJ29: =INDIRECT(ADDRESS(ROW(),MATCH(IF(LEFT(CJ$2,2)="1S","2T",IF(LEFT(CJ$2,2)="9M","3T","4T"))&RIGHT(CJ$2,2),$A$2:$CG$2,0))) -> 12347 | CK29: =INDIRECT(ADDRESS(ROW(),MATCH(IF(LEFT(CK$2,2)="1S","2T",IF(LEFT(CK$2,2)="9M","3T","4T"))&RIGHT(CK$2,2),$A$2:$CG$2,0))) -> 9318 | CL29: =INDIRECT(ADDRESS(ROW(),MATCH(IF(LEFT(CL$2,2)="1S","2T",IF(LEFT(CL$2,2)="9M","3T","4T"))&RIGHT(CL$2,2),$A$2:$CG$2,0))) -> 9019 | CM29: =INDIRECT(ADDRESS(ROW(),MATCH(IF(LEFT(CM$2,2)="1S","2T",IF(LEFT(CM$2,2)="9M","3T","4T"))&RIGHT(CM$2,2),$A$2:$CG$2,0))) -> 11106 | CN29: =INDIRECT(ADDRESS(ROW(),MATCH(IF(LEFT(CN$2,2)="1S","2T",IF(LEFT(CN$2,2)="9M","3T","4T"))&RIGHT(CN$2,2),$A$2:$CG$2,0))) -> 11434 | CO29: =INDIRECT(ADDRESS(ROW(),MATCH(IF(LEFT(CO$2,2)="1S","2T",IF(LEFT(CO$2,2)="9M","3T","4T"))&RIGHT(CO$2,2),$A$2:$CG$2,0))) -> 11091 | ... EL29: =INDIRECT(ADDRESS(ROW(),MATCH(IF(LEFT(EL$2,2)="1S","2T",IF(LEFT(EL$2,2)="9M","3T","4T"))&RIGHT(EL$2,2),$A$2:$CG$2,0))) -> 95676
B31: Permanente | C31: Permanent assets | D31: =IF(Menu!$D$12="PT",'Dados Financeiros'!B31,'Dados Financeiros'!C31) -> Permanente | E31: =SUM(E32:E34) -> 27966 | F31: =SUM(F32:F34) -> 31092 | G31: =SUM(G32:G34) -> 35270 | H31: =SUM(H32:H34) -> 66611 | I31: =SUM(I32:I34) -> 56093 | J31: =SUM(J32:J34) -> 64201 | K31: =SUM(K32:K34) -> 69840 | L31: =SUM(L32:L34) -> 76885 | ... BN31: =SUM(BN32:BN34) -> 632661 | BO31: 619978 | BP31: =SUM(BP32:BP34) -> 616363 | BQ31: =SUM(BQ32:BQ34) -> 620097 | BR31: =SUM(BR32:BR34) -> 575811 | BS31: =SUM(BS32:BS34) -> 561903 | BT31: =SUM(BT32:BT34) -> 527538 | BU31: =SUM(BU32:BU34) -> 480168 | BV31: =SUM(BV32:BV34) -> 484190 | BW31: =SUM(BW32:BW34) -> 487795 | ... CF31: =SUM(CF32:CF34) -> 475110 | CH31: =SUM(CH32:CH34) -> 31092 | CI31: =SUM(CI32:CI34) -> 35270 | CJ31: =SUM(CJ32:CJ34) -> 66611 | CK31: =SUM(CK32:CK34) -> 64201 | CL31: =SUM(CL32:CL34) -> 69840 | CM31: =SUM(CM32:CM34) -> 76885 | CN31: =SUM(CN32:CN34) -> 52753 | CO31: =SUM(CO32:CO34) -> 54108 | ... EL31: =SUM(EL32:EL34) -> 475110
B32: Investimentos | C32: Investments | D32: =IF(Menu!$D$12="PT",'Dados Financeiros'!B32,'Dados Financeiros'!C32) -> Investimentos | E32: 24864 | F32: 27417 | G32: 30449 | H32: 60480 | I32: 0 | J32: 0 | K32: 32006 | L32: 0 | M32: 0 | N32: 0 | O32: 0 | P32: 0 | Q32: 0 | R32: 0 | S32: 0 | T32: 0 | U32: 0 | V32: 0 | W32: 0 | X32: 0 | Y32: 0 | Z32: 368496 | AA32: 0 | AB32: 363374 | AC32: 0 | AD32: 360971 | AE32: 0 | AF32: 364803 | AG32: 340453 | AH32: 361017 | AI32: 352239 | AJ32: 342434 | AK32: 350004 | AL32: 348815 | AM32: 329444 | AN32: 339204 | AO32: 352565 | AP32: 345645 | AQ32: 349324 | AR32: 841200 | AS32: 857798 | AT32: 828932 | AU32: 818895 | AV32: 802028 | AW32: 792984 | AX32: 794036 | AY32: 781959 | AZ32: 795239 | BA32: 788187 | BB32: 789411 | BC32: 764637 | BD32: 776199 | BE32: 749179 | BF32: 715587 | BG32: 704848 | BH32: 626818 | BI32: 617037 | BJ32: 605120 | BK32: 592426 | BL32: 583615 | BM32: 595498 | BN32: 607316 | BO32: 591247 | BP32: 589630 | BQ32: 596655 | BR32: 555739 | BS32: 540428 | BT32: 505589 | BU32: 458292 | BV32: 458991 | BW32: 463300 | BX32: 472426 | BY32: 467120 | BZ32: 516992 | CA32: 519574 | CB32: 535445 | CC32: 543455 | CD32: 549759 | CE32: 565551 | CF32: 464375 | CH32: =INDIRECT(ADDRESS(ROW(),MATCH(IF(LEFT(CH$2,2)="1S","2T",IF(LEFT(CH$2,2)="9M","3T","4T"))&RIGHT(CH$2,2),$A$2:$CG$2,0))) -> 27417 | CI32: =INDIRECT(ADDRESS(ROW(),MATCH(IF(LEFT(CI$2,2)="1S","2T",IF(LEFT(CI$2,2)="9M","3T","4T"))&RIGHT(CI$2,2),$A$2:$CG$2,0))) -> 30449 | CJ32: =INDIRECT(ADDRESS(ROW(),MATCH(IF(LEFT(CJ$2,2)="1S","2T",IF(LEFT(CJ$2,2)="9M","3T","4T"))&RIGHT(CJ$2,2),$A$2:$CG$2,0))) -> 60480 | CK32: =INDIRECT(ADDRESS(ROW(),MATCH(IF(LEFT(CK$2,2)="1S","2T",IF(LEFT(CK$2,2)="9M","3T","4T"))&RIGHT(CK$2,2),$A$2:$CG$2,0))) -> 0 | CL32: =INDIRECT(ADDRESS(ROW(),MATCH(IF(LEFT(CL$2,2)="1S","2T",IF(LEFT(CL$2,2)="9M","3T","4T"))&RIGHT(CL$2,2),$A$2:$CG$2,0))) -> 32006 | CM32: =INDIRECT(ADDRESS(ROW(),MATCH(IF(LEFT(CM$2,2)="1S","2T",IF(LEFT(CM$2,2)="9M","3T","4T"))&RIGHT(CM$2,2),$A$2:$CG$2,0))) -> 0 | CN32: =INDIRECT(ADDRESS(ROW(),MATCH(IF(LEFT(CN$2,2)="1S","2T",IF(LEFT(CN$2,2)="9M","3T","4T"))&RIGHT(CN$2,2),$A$2:$CG$2,0))) -> 0 | CO32: =INDIRECT(ADDRESS(ROW(),MATCH(IF(LEFT(CO$2,2)="1S","2T",IF(LEFT(CO$2,2)="9M","3T","4T"))&RIGHT(CO$2,2),$A$2:$CG$2,0))) -> 0 | ... EL32: =INDIRECT(ADDRESS(ROW(),MATCH(IF(LEFT(EL$2,2)="1S","2T",IF(LEFT(EL$2,2)="9M","3T","4T"))&RIGHT(EL$2,2),$A$2:$CG$2,0))) -> 464375
B33: Imobilizado | C33: Property, plant and equipment | D33: =IF(Menu!$D$12="PT",'Dados Financeiros'!B33,'Dados Financeiros'!C33) -> Imobilizado | E33: 2739 | F33: 3276 | G33: 3914 | H33: 5455 | I33: 56093 | J33: 26402 | K33: 34936 | L33: 36288 | M33: 38645 | N33: 33971 | O33: 30698 | P33: 29207 | Q33: 25942 | R33: 29125 | S33: 31340 | T33: 36022 | U33: 38397 | V33: 31991 | W33: 36669 | X33: 40171 | Y33: 41398 | Z33: 38111 | AA33: 53205 | AB33: 49878 | AC33: 66447 | AD33: 63272 | AE33: 71436 | AF33: 68593 | AG33: 69307 | AH33: 69048 | AI33: 67154 | AJ33: 66246 | AK33: 64292 | AL33: 62794 | AM33: 60188 | AN33: 57349 | AO33: 54630 | AP33: 48796 | AQ33: 45922 | AR33: 20266 | AS33: 20232 | AT33: 19109 | AU33: 17690 | AV33: 17319 | AW33: 17018 | AX33: 12983 | AY33: 10133 | AZ33: 9612 | BA33: 9124 | BB33: 3727 | BC33: 5187 | BD33: 4698 | BE33: 9056 | BF33: 8894 | BG33: 6726 | BH33: 6335 | BI33: 6949 | BJ33: 6504 | BK33: 8067 | BL33: 9945 | BM33: 8523 | BN33: 9451 | BO33: 14026 | BP33: 13117 | BQ33: 11049 | BR33: 8347 | BS33: 10508 | BT33: 11478 | BU33: 11889 | BV33: 12767 | BW33: 12682 | BX33: 10526 | BY33: 9611 | BZ33: 8867 | CA33: 7103 | CB33: 6187 | CC33: 5934 | CD33: 5280 | CE33: 3569 | CF33: 3126 | CH33: =INDIRECT(ADDRESS(ROW(),MATCH(IF(LEFT(CH$2,2)="1S","2T",IF(LEFT(CH$2,2)="9M","3T","4T"))&RIGHT(CH$2,2),$A$2:$CG$2,0))) -> 3276 | CI33: =INDIRECT(ADDRESS(ROW(),MATCH(IF(LEFT(CI$2,2)="1S","2T",IF(LEFT(CI$2,2)="9M","3T","4T"))&RIGHT(CI$2,2),$A$2:$CG$2,0))) -> 3914 | CJ33: =INDIRECT(ADDRESS(ROW(),MATCH(IF(LEFT(CJ$2,2)="1S","2T",IF(LEFT(CJ$2,2)="9M","3T","4T"))&RIGHT(CJ$2,2),$A$2:$CG$2,0))) -> 5455 | CK33: =INDIRECT(ADDRESS(ROW(),MATCH(IF(LEFT(CK$2,2)="1S","2T",IF(LEFT(CK$2,2)="9M","3T","4T"))&RIGHT(CK$2,2),$A$2:$CG$2,0))) -> 26402 | CL33: =INDIRECT(ADDRESS(ROW(),MATCH(IF(LEFT(CL$2,2)="1S","2T",IF(LEFT(CL$2,2)="9M","3T","4T"))&RIGHT(CL$2,2),$A$2:$CG$2,0))) -> 34936 | CM33: =INDIRECT(ADDRESS(ROW(),MATCH(IF(LEFT(CM$2,2)="1S","2T",IF(LEFT(CM$2,2)="9M","3T","4T"))&RIGHT(CM$2,2),$A$2:$CG$2,0))) -> 36288 | CN33: =INDIRECT(ADDRESS(ROW(),MATCH(IF(LEFT(CN$2,2)="1S","2T",IF(LEFT(CN$2,2)="9M","3T","4T"))&RIGHT(CN$2,2),$A$2:$CG$2,0))) -> 33971 | CO33: =INDIRECT(ADDRESS(ROW(),MATCH(IF(LEFT(CO$2,2)="1S","2T",IF(LEFT(CO$2,2)="9M","3T","4T"))&RIGHT(CO$2,2),$A$2:$CG$2,0))) -> 30698 | ... EL33: =INDIRECT(ADDRESS(ROW(),MATCH(IF(LEFT(EL$2,2)="1S","2T",IF(LEFT(EL$2,2)="9M","3T","4T"))&RIGHT(EL$2,2),$A$2:$CG$2,0))) -> 3126
